BEGIN:VCALENDAR
VERSION:2.0
PRODID:-//Redstone Liquors - ECPv6.15.11//NONSGML v1.0//EN
CALSCALE:GREGORIAN
METHOD:PUBLISH
X-WR-CALNAME:Redstone Liquors
X-ORIGINAL-URL:https://www.redstoneliquors.com
X-WR-CALDESC:Events for Redstone Liquors
REFRESH-INTERVAL;VALUE=DURATION:PT1H
X-Robots-Tag:noindex
X-PUBLISHED-TTL:PT1H
BEGIN:VTIMEZONE
TZID:America/New_York
BEGIN:DAYLIGHT
TZOFFSETFROM:-0500
TZOFFSETTO:-0400
TZNAME:EDT
DTSTART:20200308T070000
END:DAYLIGHT
BEGIN:STANDARD
TZOFFSETFROM:-0400
TZOFFSETTO:-0500
TZNAME:EST
DTSTART:20201101T060000
END:STANDARD
BEGIN:DAYLIGHT
TZOFFSETFROM:-0500
TZOFFSETTO:-0400
TZNAME:EDT
DTSTART:20210314T070000
END:DAYLIGHT
BEGIN:STANDARD
TZOFFSETFROM:-0400
TZOFFSETTO:-0500
TZNAME:EST
DTSTART:20211107T060000
END:STANDARD
BEGIN:DAYLIGHT
TZOFFSETFROM:-0500
TZOFFSETTO:-0400
TZNAME:EDT
DTSTART:20220313T070000
END:DAYLIGHT
BEGIN:STANDARD
TZOFFSETFROM:-0400
TZOFFSETTO:-0500
TZNAME:EST
DTSTART:20221106T060000
END:STANDARD
BEGIN:DAYLIGHT
TZOFFSETFROM:-0500
TZOFFSETTO:-0400
TZNAME:EDT
DTSTART:20230312T070000
END:DAYLIGHT
BEGIN:STANDARD
TZOFFSETFROM:-0400
TZOFFSETTO:-0500
TZNAME:EST
DTSTART:20231105T060000
END:STANDARD
BEGIN:DAYLIGHT
TZOFFSETFROM:-0500
TZOFFSETTO:-0400
TZNAME:EDT
DTSTART:20240310T070000
END:DAYLIGHT
BEGIN:STANDARD
TZOFFSETFROM:-0400
TZOFFSETTO:-0500
TZNAME:EST
DTSTART:20241103T060000
END:STANDARD
BEGIN:DAYLIGHT
TZOFFSETFROM:-0500
TZOFFSETTO:-0400
TZNAME:EDT
DTSTART:20250309T070000
END:DAYLIGHT
BEGIN:STANDARD
TZOFFSETFROM:-0400
TZOFFSETTO:-0500
TZNAME:EST
DTSTART:20251102T060000
END:STANDARD
BEGIN:DAYLIGHT
TZOFFSETFROM:-0500
TZOFFSETTO:-0400
TZNAME:EDT
DTSTART:20260308T070000
END:DAYLIGHT
BEGIN:STANDARD
TZOFFSETFROM:-0400
TZOFFSETTO:-0500
TZNAME:EST
DTSTART:20261101T060000
END:STANDARD
BEGIN:DAYLIGHT
TZOFFSETFROM:-0500
TZOFFSETTO:-0400
TZNAME:EDT
DTSTART:20270314T070000
END:DAYLIGHT
BEGIN:STANDARD
TZOFFSETFROM:-0400
TZOFFSETTO:-0500
TZNAME:EST
DTSTART:20271107T060000
END:STANDARD
END:VTIMEZONE
BEGIN:VEVENT
DTSTART;TZID=America/New_York:20260117T130000
DTEND;TZID=America/New_York:20260117T150000
DTSTAMP:20260423T164211
CREATED:20260108T202004Z
LAST-MODIFIED:20260108T202004Z
UID:20334-1768654800-1768662000@www.redstoneliquors.com
SUMMARY:Nutrl Tasting
DESCRIPTION:
URL:https://www.redstoneliquors.com/event/nutrl-tasting/
LOCATION:Redstone Liquors Stoneham\, 115 Main St\, Stoneham\, MA\, 02180\, United States
END:VEVENT
BEGIN:VEVENT
DTSTART;TZID=America/New_York:20241127T150000
DTEND;TZID=America/New_York:20241127T180000
DTSTAMP:20260423T164211
CREATED:20241112T170210Z
LAST-MODIFIED:20241112T170256Z
UID:20189-1732719600-1732730400@www.redstoneliquors.com
SUMMARY:Wine Tasting
DESCRIPTION:Join Brian from Martignetti to sample his portfolio of wines that will be a hit for your Thankgiving celebration including Orin Swift\, Louis Martini and Ghost Pines.
URL:https://www.redstoneliquors.com/event/wine-tasting/
END:VEVENT
BEGIN:VEVENT
DTSTART;TZID=America/New_York:20241115T163000
DTEND;TZID=America/New_York:20241115T183000
DTSTAMP:20260423T164211
CREATED:20241112T170012Z
LAST-MODIFIED:20241112T170012Z
UID:20187-1731688200-1731695400@www.redstoneliquors.com
SUMMARY:Night Owl Expresso Martini Tasting
DESCRIPTION:Join Mike from Night Owl to sample his pre made canned espresso martinis. Available in both Vodka and Tequila varieties.
URL:https://www.redstoneliquors.com/event/night-owl-expresso-martini-tasting/
LOCATION:Redstone Liquors Stoneham\, 115 Main St\, Stoneham\, MA\, 02180\, United States
END:VEVENT
BEGIN:VEVENT
DTSTART;TZID=America/New_York:20241004T163000
DTEND;TZID=America/New_York:20241004T183000
DTSTAMP:20260423T164211
CREATED:20241002T134407Z
LAST-MODIFIED:20241002T134416Z
UID:20127-1728059400-1728066600@www.redstoneliquors.com
SUMMARY:Hopothecary Ales Tasting
DESCRIPTION:Swing by Stoneham from 430 to 630 on Friday Oct 4th and sample some local beers with the folks from North Readings own Hopothecary Ales.
URL:https://www.redstoneliquors.com/event/hopothecary-ales-tasting/
LOCATION:Redstone Liquors Stoneham\, 115 Main St\, Stoneham\, MA\, 02180\, United States
END:VEVENT
BEGIN:VEVENT
DTSTART;TZID=America/New_York:20240914T150000
DTEND;TZID=America/New_York:20240914T170000
DTSTAMP:20260423T164211
CREATED:20240828T135617Z
LAST-MODIFIED:20240828T135617Z
UID:20056-1726326000-1726333200@www.redstoneliquors.com
SUMMARY:Wine tasting with Octopoda wines
DESCRIPTION:Swing by Stoneham from 3-5pm On Saturday September 14th for a wine tasting with the folks from Octopoda wines. Sample their Chardonnay\, Sauvignon Blanc\, Napa Cabernet sauvignon and Pinot Noir.
URL:https://www.redstoneliquors.com/event/wine-tasting-with-octopoda-wines/
LOCATION:Redstone Liquors Stoneham\, 115 Main St\, Stoneham\, MA\, 02180\, United States
END:VEVENT
BEGIN:VEVENT
DTSTART;TZID=America/New_York:20240913T163000
DTEND;TZID=America/New_York:20240913T183000
DTSTAMP:20260423T164211
CREATED:20240911T150303Z
LAST-MODIFIED:20240911T150303Z
UID:20080-1726245000-1726252200@www.redstoneliquors.com
SUMMARY:Downeast Cider
DESCRIPTION:Swing by Stoneham from 4:30 to 6:30 for a tasting with the folks from Downeast Cider house.
URL:https://www.redstoneliquors.com/event/downeast-cider/
LOCATION:Redstone Liquors Stoneham\, 115 Main St\, Stoneham\, MA\, 02180\, United States
END:VEVENT
BEGIN:VEVENT
DTSTART;TZID=America/New_York:20240830T170000
DTEND;TZID=America/New_York:20240830T190000
DTSTAMP:20260423T164211
CREATED:20240710T162122Z
LAST-MODIFIED:20240828T133418Z
UID:19837-1725037200-1725044400@www.redstoneliquors.com
SUMMARY:Cape Tide Hard Tea Tasting
DESCRIPTION:Join us for an in store tasting from Capt Tide Hard Teas and sample their lineup in stoneham.
URL:https://www.redstoneliquors.com/event/cape-tide-hard-tea-tasting/
LOCATION:Redstone Liquors Stoneham\, 115 Main St\, Stoneham\, MA\, 02180\, United States
END:VEVENT
BEGIN:VEVENT
DTSTART;TZID=America/New_York:20240809T163000
DTEND;TZID=America/New_York:20240809T183000
DTSTAMP:20260423T164211
CREATED:20240710T162013Z
LAST-MODIFIED:20240710T162013Z
UID:19835-1723221000-1723228200@www.redstoneliquors.com
SUMMARY:Notch brewing Tasting
DESCRIPTION:Join Notch Brewing fro an in store tasting of their lineup of beers in Stoneham
URL:https://www.redstoneliquors.com/event/notch-brewing-tasting/
LOCATION:Redstone Liquors Stoneham\, 115 Main St\, Stoneham\, MA\, 02180\, United States
END:VEVENT
BEGIN:VEVENT
DTSTART;TZID=America/New_York:20220527T160000
DTEND;TZID=America/New_York:20220527T180000
DTSTAMP:20260423T164211
CREATED:20220304T171805Z
LAST-MODIFIED:20220304T171805Z
UID:19681-1653667200-1653674400@www.redstoneliquors.com
SUMMARY:Infuse Vodka (Stoneham)
DESCRIPTION:
URL:https://www.redstoneliquors.com/event/infuse-vodka-stoneham/
LOCATION:Redstone Liquors Stoneham\, 115 Main St\, Stoneham\, MA\, 02180\, United States
END:VEVENT
BEGIN:VEVENT
DTSTART;TZID=America/New_York:20220430T160000
DTEND;TZID=America/New_York:20220430T180000
DTSTAMP:20260423T164211
CREATED:20220304T171724Z
LAST-MODIFIED:20220304T171724Z
UID:19679-1651334400-1651341600@www.redstoneliquors.com
SUMMARY:123 Tequila (Stoneham)
DESCRIPTION:
URL:https://www.redstoneliquors.com/event/123-tequila-stoneham/
LOCATION:Redstone Liquors Stoneham\, 115 Main St\, Stoneham\, MA\, 02180\, United States
END:VEVENT
BEGIN:VEVENT
DTSTART;TZID=America/New_York:20220415T160000
DTEND;TZID=America/New_York:20220415T180000
DTSTAMP:20260423T164211
CREATED:20220304T171644Z
LAST-MODIFIED:20220304T171644Z
UID:19677-1650038400-1650045600@www.redstoneliquors.com
SUMMARY:True North Brewing (Stoneham)
DESCRIPTION:
URL:https://www.redstoneliquors.com/event/true-north-brewing-stoneham/
LOCATION:Redstone Liquors Stoneham\, 115 Main St\, Stoneham\, MA\, 02180\, United States
END:VEVENT
BEGIN:VEVENT
DTSTART;TZID=America/New_York:20220326T150000
DTEND;TZID=America/New_York:20220326T180000
DTSTAMP:20260423T164211
CREATED:20220304T171837Z
LAST-MODIFIED:20220304T171837Z
UID:19683-1648306800-1648317600@www.redstoneliquors.com
SUMMARY:White Lion Brewing
DESCRIPTION:
URL:https://www.redstoneliquors.com/event/white-lion-brewing/
LOCATION:Redstone Liquors Stoneham\, 115 Main St\, Stoneham\, MA\, 02180\, United States
END:VEVENT
BEGIN:VEVENT
DTSTART;TZID=America/New_York:20220325T160000
DTEND;TZID=America/New_York:20220325T180000
DTSTAMP:20260423T164211
CREATED:20220304T171601Z
LAST-MODIFIED:20220304T171601Z
UID:19675-1648224000-1648231200@www.redstoneliquors.com
SUMMARY:Whistle Pig Ready to drink can cocktails
DESCRIPTION:
URL:https://www.redstoneliquors.com/event/whistle-pig-ready-to-drink-can-cocktails/
LOCATION:Redstone Liquors Stoneham\, 115 Main St\, Stoneham\, MA\, 02180\, United States
END:VEVENT
BEGIN:VEVENT
DTSTART;TZID=America/New_York:20220319T160000
DTEND;TZID=America/New_York:20220319T180000
DTSTAMP:20260423T164211
CREATED:20220309T205742Z
LAST-MODIFIED:20220309T205742Z
UID:19685-1647705600-1647712800@www.redstoneliquors.com
SUMMARY:Bevy Long Drink (Stoneham)
DESCRIPTION:
URL:https://www.redstoneliquors.com/event/bevy-long-drink-stoneham/
LOCATION:Redstone Liquors Stoneham\, 115 Main St\, Stoneham\, MA\, 02180\, United States
END:VEVENT
BEGIN:VEVENT
DTSTART;TZID=America/New_York:20220305T160000
DTEND;TZID=America/New_York:20220305T190000
DTSTAMP:20260423T164211
CREATED:20220304T171420Z
LAST-MODIFIED:20220304T171420Z
UID:19673-1646496000-1646506800@www.redstoneliquors.com
SUMMARY:Redwood empire Whiskey (Stoneham)
DESCRIPTION:
URL:https://www.redstoneliquors.com/event/redwood-empire-whiskey-stoneham/
LOCATION:Redstone Liquors Stoneham\, 115 Main St\, Stoneham\, MA\, 02180\, United States
END:VEVENT
BEGIN:VEVENT
DTSTART;TZID=America/New_York:20220219T160000
DTEND;TZID=America/New_York:20220219T180000
DTSTAMP:20260423T164211
CREATED:20220207T204715Z
LAST-MODIFIED:20220207T204715Z
UID:19670-1645286400-1645293600@www.redstoneliquors.com
SUMMARY:Short Path distilling (Stoneham)
DESCRIPTION:
URL:https://www.redstoneliquors.com/event/short-path-distilling-stoneham/
END:VEVENT
BEGIN:VEVENT
DTSTART;TZID=America/New_York:20220212T160000
DTEND;TZID=America/New_York:20220212T183000
DTSTAMP:20260423T164211
CREATED:20220119T154830Z
LAST-MODIFIED:20220126T165829Z
UID:19610-1644681600-1644690600@www.redstoneliquors.com
SUMMARY:Singlecut beer tasting
DESCRIPTION:
URL:https://www.redstoneliquors.com/event/singlecut-beer-tasting/
LOCATION:Redstone Liquors Stoneham\, 115 Main St\, Stoneham\, MA\, 02180\, United States
END:VEVENT
BEGIN:VEVENT
DTSTART;TZID=America/New_York:20220211T160000
DTEND;TZID=America/New_York:20220211T180000
DTSTAMP:20260423T164211
CREATED:20220119T154726Z
LAST-MODIFIED:20220119T154726Z
UID:19608-1644595200-1644602400@www.redstoneliquors.com
SUMMARY:Bestie hard seltzer/ Armada brewing tasting
DESCRIPTION:
URL:https://www.redstoneliquors.com/event/bestie-hard-seltzer-armada-brewing-tasting/
LOCATION:Redstone Liquors Stoneham\, 115 Main St\, Stoneham\, MA\, 02180\, United States
END:VEVENT
BEGIN:VEVENT
DTSTART;TZID=America/New_York:20220205T160000
DTEND;TZID=America/New_York:20220205T180000
DTSTAMP:20260423T164211
CREATED:20220126T165554Z
LAST-MODIFIED:20220126T165554Z
UID:19614-1644076800-1644084000@www.redstoneliquors.com
SUMMARY:Whistle Pig RTD Cans (Stoneham)
DESCRIPTION:
URL:https://www.redstoneliquors.com/event/whistle-pig-rtd-cans-stoneham/
LOCATION:Redstone Liquors Stoneham\, 115 Main St\, Stoneham\, MA\, 02180\, United States
END:VEVENT
BEGIN:VEVENT
DTSTART;TZID=America/New_York:20220129T150000
DTEND;TZID=America/New_York:20220129T150000
DTSTAMP:20260423T164211
CREATED:20220119T155956Z
LAST-MODIFIED:20220119T155956Z
UID:19612-1643468400-1643468400@www.redstoneliquors.com
SUMMARY:Cardinal Whiskey
DESCRIPTION:
URL:https://www.redstoneliquors.com/event/cardinal-whiskey/
LOCATION:Redstone Liquors Stoneham\, 115 Main St\, Stoneham\, MA\, 02180\, United States
END:VEVENT
BEGIN:VEVENT
DTSTART;TZID=America/New_York:20211217T170000
DTEND;TZID=America/New_York:20211217T190000
DTSTAMP:20260423T164211
CREATED:20211001T171612Z
LAST-MODIFIED:20211001T171612Z
UID:19555-1639760400-1639767600@www.redstoneliquors.com
SUMMARY:Drinkworks Sampling Stoneham
DESCRIPTION:
URL:https://www.redstoneliquors.com/event/drinkworks-sampling-stoneham-2/
LOCATION:Redstone Liquors Stoneham\, 115 Main St\, Stoneham\, MA\, 02180\, United States
END:VEVENT
BEGIN:VEVENT
DTSTART;TZID=America/New_York:20211211T160000
DTEND;TZID=America/New_York:20211211T180000
DTSTAMP:20260423T164211
CREATED:20211108T161713Z
LAST-MODIFIED:20211108T161713Z
UID:19599-1639238400-1639245600@www.redstoneliquors.com
SUMMARY:D'usse Cognac (Stoneham)
DESCRIPTION:
URL:https://www.redstoneliquors.com/event/dusse-cognac-stoneham/
LOCATION:Redstone Liquors Stoneham\, 115 Main St\, Stoneham\, MA\, 02180\, United States
END:VEVENT
BEGIN:VEVENT
DTSTART;TZID=America/New_York:20211211T140000
DTEND;TZID=America/New_York:20211211T160000
DTSTAMP:20260423T164211
CREATED:20211108T161626Z
LAST-MODIFIED:20211108T161626Z
UID:19597-1639231200-1639238400@www.redstoneliquors.com
SUMMARY:Bacardi Flavors Coconut / Tropical (Stoneham)
DESCRIPTION:
URL:https://www.redstoneliquors.com/event/bacardi-flavors-coconut-tropical-stoneham/
LOCATION:Redstone Liquors Stoneham\, 115 Main St\, Stoneham\, MA\, 02180\, United States
END:VEVENT
BEGIN:VEVENT
DTSTART;TZID=America/New_York:20211211T120000
DTEND;TZID=America/New_York:20211211T140000
DTSTAMP:20260423T164211
CREATED:20211108T161536Z
LAST-MODIFIED:20211108T161547Z
UID:19595-1639224000-1639231200@www.redstoneliquors.com
SUMMARY:Grey Goose Essence (Stoneham)
DESCRIPTION:
URL:https://www.redstoneliquors.com/event/grey-goose-essence-stoneham/
LOCATION:Redstone Liquors Stoneham\, 115 Main St\, Stoneham\, MA\, 02180\, United States
END:VEVENT
BEGIN:VEVENT
DTSTART;TZID=America/New_York:20211210T160000
DTEND;TZID=America/New_York:20211210T190000
DTSTAMP:20260423T164211
CREATED:20211004T194240Z
LAST-MODIFIED:20211004T194240Z
UID:19557-1639152000-1639162800@www.redstoneliquors.com
SUMMARY:Bells Brewing - Stoneham
DESCRIPTION:
URL:https://www.redstoneliquors.com/event/bells-brewing-stoneham/
LOCATION:Redstone Liquors Stoneham\, 115 Main St\, Stoneham\, MA\, 02180\, United States
END:VEVENT
BEGIN:VEVENT
DTSTART;TZID=America/New_York:20211204T160000
DTEND;TZID=America/New_York:20211204T180000
DTSTAMP:20260423T164211
CREATED:20211112T143342Z
LAST-MODIFIED:20211112T143342Z
UID:19603-1638633600-1638640800@www.redstoneliquors.com
SUMMARY:3 floyds tasting Stoneham
DESCRIPTION:
URL:https://www.redstoneliquors.com/event/3-floyds-tasting-stoneham/
LOCATION:Redstone Liquors Stoneham\, 115 Main St\, Stoneham\, MA\, 02180\, United States
END:VEVENT
BEGIN:VEVENT
DTSTART;TZID=America/New_York:20211203T160000
DTEND;TZID=America/New_York:20211203T190000
DTSTAMP:20260423T164211
CREATED:20211108T162620Z
LAST-MODIFIED:20211108T162620Z
UID:19601-1638547200-1638558000@www.redstoneliquors.com
SUMMARY:Maison Marcel wines (Stoneham)
DESCRIPTION:
URL:https://www.redstoneliquors.com/event/maison-marcel-wines-stoneham-3/
LOCATION:Redstone Liquors Stoneham\, 115 Main St\, Stoneham\, MA\, 02180\, United States
END:VEVENT
BEGIN:VEVENT
DTSTART;TZID=America/New_York:20211203T160000
DTEND;TZID=America/New_York:20211203T190000
DTSTAMP:20260423T164211
CREATED:20211008T145450Z
LAST-MODIFIED:20211008T145450Z
UID:19560-1638547200-1638558000@www.redstoneliquors.com
SUMMARY:Masion Marcel wines Stoneham
DESCRIPTION:
URL:https://www.redstoneliquors.com/event/masion-marcel-wines-stoneham/
LOCATION:Redstone Liquors Stoneham\, 115 Main St\, Stoneham\, MA\, 02180\, United States
END:VEVENT
BEGIN:VEVENT
DTSTART;TZID=America/New_York:20211127T160000
DTEND;TZID=America/New_York:20211127T180000
DTSTAMP:20260423T164211
CREATED:20211108T161447Z
LAST-MODIFIED:20211108T161447Z
UID:19593-1638028800-1638036000@www.redstoneliquors.com
SUMMARY:Dewar's 12/15 ( label event)  (Stoneham)
DESCRIPTION:
URL:https://www.redstoneliquors.com/event/dewars-12-15-label-event-stoneham-2/
LOCATION:Redstone Liquors Stoneham\, 115 Main St\, Stoneham\, MA\, 02180\, United States
END:VEVENT
BEGIN:VEVENT
DTSTART;TZID=America/New_York:20211127T140000
DTEND;TZID=America/New_York:20211127T160000
DTSTAMP:20260423T164211
CREATED:20211108T161401Z
LAST-MODIFIED:20211108T161410Z
UID:19590-1638021600-1638028800@www.redstoneliquors.com
SUMMARY:St Germain Spritzer Holiday (stoneham)
DESCRIPTION:
URL:https://www.redstoneliquors.com/event/st-germain-spritzer-holiday/
LOCATION:Redstone Liquors Stoneham\, 115 Main St\, Stoneham\, MA\, 02180\, United States
END:VEVENT
END:VCALENDAR