BEGIN:VCALENDAR
VERSION:2.0
PRODID:-//Redstone Liquors - ECPv6.15.11//NONSGML v1.0//EN
CALSCALE:GREGORIAN
METHOD:PUBLISH
X-WR-CALNAME:Redstone Liquors
X-ORIGINAL-URL:https://www.redstoneliquors.com
X-WR-CALDESC:Events for Redstone Liquors
REFRESH-INTERVAL;VALUE=DURATION:PT1H
X-Robots-Tag:noindex
X-PUBLISHED-TTL:PT1H
BEGIN:VTIMEZONE
TZID:America/New_York
BEGIN:DAYLIGHT
TZOFFSETFROM:-0500
TZOFFSETTO:-0400
TZNAME:EDT
DTSTART:20180311T070000
END:DAYLIGHT
BEGIN:STANDARD
TZOFFSETFROM:-0400
TZOFFSETTO:-0500
TZNAME:EST
DTSTART:20181104T060000
END:STANDARD
BEGIN:DAYLIGHT
TZOFFSETFROM:-0500
TZOFFSETTO:-0400
TZNAME:EDT
DTSTART:20190310T070000
END:DAYLIGHT
BEGIN:STANDARD
TZOFFSETFROM:-0400
TZOFFSETTO:-0500
TZNAME:EST
DTSTART:20191103T060000
END:STANDARD
BEGIN:DAYLIGHT
TZOFFSETFROM:-0500
TZOFFSETTO:-0400
TZNAME:EDT
DTSTART:20200308T070000
END:DAYLIGHT
BEGIN:STANDARD
TZOFFSETFROM:-0400
TZOFFSETTO:-0500
TZNAME:EST
DTSTART:20201101T060000
END:STANDARD
END:VTIMEZONE
BEGIN:VEVENT
DTSTART;TZID=America/New_York:20190928T140000
DTEND;TZID=America/New_York:20190928T160000
DTSTAMP:20260424T123830
CREATED:20190819T190612Z
LAST-MODIFIED:20190819T190612Z
UID:17449-1569679200-1569686400@www.redstoneliquors.com
SUMMARY:Hornitos Tequila (Stoneham)
DESCRIPTION:
URL:https://www.redstoneliquors.com/event/hornitos-tequila-stoneham/
END:VEVENT
BEGIN:VEVENT
DTSTART;TZID=America/New_York:20190928T120000
DTEND;TZID=America/New_York:20190928T140000
DTSTAMP:20260424T123830
CREATED:20190819T190406Z
LAST-MODIFIED:20190819T190406Z
UID:17447-1569672000-1569679200@www.redstoneliquors.com
SUMMARY:Jim Beam Bourbon (Stoneham)
DESCRIPTION:
URL:https://www.redstoneliquors.com/event/jim-beam-bourbon-stoneham/
END:VEVENT
BEGIN:VEVENT
DTSTART;TZID=America/New_York:20190927T160000
DTEND;TZID=America/New_York:20190927T190000
DTSTAMP:20260424T123830
CREATED:20190813T154517Z
LAST-MODIFIED:20190813T154517Z
UID:17442-1569600000-1569610800@www.redstoneliquors.com
SUMMARY:Downeast Cider (Stoneham)
DESCRIPTION:
URL:https://www.redstoneliquors.com/event/downeast-cider-stoneham/
END:VEVENT
BEGIN:VEVENT
DTSTART;TZID=America/New_York:20190913T160000
DTEND;TZID=America/New_York:20190913T190000
DTSTAMP:20260424T123830
CREATED:20190715T161734Z
LAST-MODIFIED:20190715T161734Z
UID:17396-1568390400-1568401200@www.redstoneliquors.com
SUMMARY:Wine Tasting (Stoneham)
DESCRIPTION:Blue Coast
URL:https://www.redstoneliquors.com/event/wine-tasting-stoneham-10/
END:VEVENT
BEGIN:VEVENT
DTSTART;TZID=America/New_York:20190906T160000
DTEND;TZID=America/New_York:20190906T190000
DTSTAMP:20260424T123830
CREATED:20190711T142513Z
LAST-MODIFIED:20190711T142513Z
UID:17389-1567785600-1567796400@www.redstoneliquors.com
SUMMARY:Crook & Marker (Stoneham)
DESCRIPTION:
URL:https://www.redstoneliquors.com/event/crook-marker-stoneham-2/
END:VEVENT
BEGIN:VEVENT
DTSTART;TZID=America/New_York:20190905T180000
DTEND;TZID=America/New_York:20190905T190000
DTSTAMP:20260424T123830
CREATED:20190830T154142Z
LAST-MODIFIED:20190830T154142Z
UID:17462-1567706400-1567710000@www.redstoneliquors.com
SUMMARY:St. George Spirits classroom event hosted by Lance Winters!
DESCRIPTION:We are happy to host Lance Winters (Bio Below) of St. George Spirits for a classroom event in Stoneham. Join us as Lance walks you through some of their expansive lineup of craft spirits. He will have some really cool and rare expressions of his Whiskeys\, including Baller\, Lot Whiskey & his 35th Anniversary Single Malt (only 781 bottles produced) to sample. \nWhen: Tasting center @ Redstone Stoneham\nTime: 6:00pm-7:00pm\nCost: Free (seating is limited to first 24 to reserve their spot by calling 781-438-9265)\nBonus: Limited amount of bottles of Baller and Lot Whiskey as well as other limited expressions will be offered for sale to those in attendance as well as 5% off any St. George Product the night of event. Lance will also be signing bottles purchased at the event. \nMore about Lance Winters: \nMaster distiller Lance Winters is the creative force behind St. George Spirits\, known for his “penchant for gleefully shunning the spirits world’s conventions” (Esquire) and respected for having “a passion for his craft only equaled by his explosive imagination” (The Bold Italic). \nLance came to St. George Spirits in 1996 after working as a U.S. Navy nuclear engineer and brewer. Motivated by the desire to make whiskey out of his favorite ales\, Lance became interested in distillation. He approached St. George founder Jörg Rupf with a bottle of homemade whiskey as his resume and has been with the distillery ever since. \n“One of those rare people who really consider distilling as an art form” (Malt Maniacs)\, \nLance is driven by a need to create beautiful spirits that beguile the palate and capture the imagination\, and his “technical knowledge and finely honed sense of taste have helped earn St. George many accolades and a devoted following over the years” (Portfolio). \nIn the 23 years since joining St. George\, Lance has been instrumental in expanding St. George’s portfolio and catalyzing its growth from a dedicated eau de vie distillery into one of the most prolific and innovative craft distilleries in the nation. Under Lance’s watch\, St. George has launched many of the iconic spirits that the distillery is best known for today: St. George Single Malt Whiskey\, St. George Absinthe Verte\, St. George California Agricole Rum\, the St. George gins (Botanivore Gin\, Terroir Gin\, and Dry Rye Gin)\, the St. George vodkas (All Purpose Vodka\, California Citrus Vodka\, and Green Chile Vodka)\, Baller Single Malt Whiskey\, and Bruto Americano. \nThe James Beard Foundation has recognized Lance’s contributions to the spirits world with nominations four years running (2016\, 2017\, 2018\, 2019) in the category of Outstanding Wine\, Beer\, or Spirits Producer.
URL:https://www.redstoneliquors.com/event/st-george-spirits-classroom-event-hosted-by-lance-winters/
ATTACH;FMTTYPE=image/png:https://www.redstoneliquors.com/wp-content/uploads/2019/08/SGS-no-border.png
END:VEVENT
BEGIN:VEVENT
DTSTART;TZID=America/New_York:20190831T130000
DTEND;TZID=America/New_York:20190831T160000
DTSTAMP:20260424T123830
CREATED:20190813T191705Z
LAST-MODIFIED:20190813T191705Z
UID:17444-1567256400-1567267200@www.redstoneliquors.com
SUMMARY:Cocktail Tasting with Sauza\, Pinnacle & Cruzan (Stoneham)
DESCRIPTION:
URL:https://www.redstoneliquors.com/event/cocktail-tasting-with-sauza-pinnacle-cruzan-stoneham/
END:VEVENT
BEGIN:VEVENT
DTSTART;TZID=America/New_York:20190830T160000
DTEND;TZID=America/New_York:20190830T190000
DTSTAMP:20260424T123830
CREATED:20190806T175931Z
LAST-MODIFIED:20190806T175931Z
UID:17432-1567180800-1567191600@www.redstoneliquors.com
SUMMARY:Notch Brewing(Stoneham)
DESCRIPTION:
URL:https://www.redstoneliquors.com/event/notch-brewingstoneham/
END:VEVENT
BEGIN:VEVENT
DTSTART;TZID=America/New_York:20190824T130000
DTEND;TZID=America/New_York:20190824T160000
DTSTAMP:20260424T123830
CREATED:20190806T180043Z
LAST-MODIFIED:20190806T180043Z
UID:17434-1566651600-1566662400@www.redstoneliquors.com
SUMMARY:Troegs beer tasting (Stoneham)
DESCRIPTION:
URL:https://www.redstoneliquors.com/event/troegs-beer-tasting-stoneham/
END:VEVENT
BEGIN:VEVENT
DTSTART;TZID=America/New_York:20190823T160000
DTEND;TZID=America/New_York:20190823T180000
DTSTAMP:20260424T123830
CREATED:20190722T191122Z
LAST-MODIFIED:20190722T191122Z
UID:17406-1566576000-1566583200@www.redstoneliquors.com
SUMMARY:Ohza canned mimosa (Stoneham)
DESCRIPTION:
URL:https://www.redstoneliquors.com/event/ohza-canned-mimosa-stoneham/
END:VEVENT
BEGIN:VEVENT
DTSTART;TZID=America/New_York:20190817T130000
DTEND;TZID=America/New_York:20190817T160000
DTSTAMP:20260424T123830
CREATED:20190712T154713Z
LAST-MODIFIED:20190712T154713Z
UID:17394-1566046800-1566057600@www.redstoneliquors.com
SUMMARY:Lord Hobo (Stoneham)
DESCRIPTION:
URL:https://www.redstoneliquors.com/event/lord-hobo-stoneham-2/
END:VEVENT
BEGIN:VEVENT
DTSTART;TZID=America/New_York:20190816T160000
DTEND;TZID=America/New_York:20190816T190000
DTSTAMP:20260424T123830
CREATED:20190730T205302Z
LAST-MODIFIED:20190730T205302Z
UID:17429-1565971200-1565982000@www.redstoneliquors.com
SUMMARY:Rosé Picine (Stoneham)
DESCRIPTION:
URL:https://www.redstoneliquors.com/event/rose-picine-stoneham/
END:VEVENT
BEGIN:VEVENT
DTSTART;TZID=America/New_York:20190809T160000
DTEND;TZID=America/New_York:20190809T190000
DTSTAMP:20260424T123830
CREATED:20190711T142332Z
LAST-MODIFIED:20190711T142332Z
UID:17387-1565366400-1565377200@www.redstoneliquors.com
SUMMARY:Crook & Marker (Stoneham)
DESCRIPTION:
URL:https://www.redstoneliquors.com/event/crook-marker-stoneham/
END:VEVENT
BEGIN:VEVENT
DTSTART;TZID=America/New_York:20190802T160000
DTEND;TZID=America/New_York:20190802T190000
DTSTAMP:20260424T123830
CREATED:20190712T154450Z
LAST-MODIFIED:20190712T154450Z
UID:17392-1564761600-1564772400@www.redstoneliquors.com
SUMMARY:Lord Hobo (Stoneham)
DESCRIPTION:
URL:https://www.redstoneliquors.com/event/lord-hobo-stoneham/
END:VEVENT
BEGIN:VEVENT
DTSTART;TZID=America/New_York:20190727T150000
DTEND;TZID=America/New_York:20190727T170000
DTSTAMP:20260424T123830
CREATED:20190719T143811Z
LAST-MODIFIED:20190719T143811Z
UID:17403-1564239600-1564246800@www.redstoneliquors.com
SUMMARY:Grey Goose Flavors (Stoneham)
DESCRIPTION:
URL:https://www.redstoneliquors.com/event/grey-goose-flavors-stoneham/
END:VEVENT
BEGIN:VEVENT
DTSTART;TZID=America/New_York:20190727T130000
DTEND;TZID=America/New_York:20190727T150000
DTSTAMP:20260424T123830
CREATED:20190719T143701Z
LAST-MODIFIED:20190719T143701Z
UID:17401-1564232400-1564239600@www.redstoneliquors.com
SUMMARY:Bombay Sapphire (Stoneham)
DESCRIPTION:
URL:https://www.redstoneliquors.com/event/bombay-sapphire-stoneham/
END:VEVENT
BEGIN:VEVENT
DTSTART;TZID=America/New_York:20190726T170000
DTEND;TZID=America/New_York:20190726T190000
DTSTAMP:20260424T123830
CREATED:20190704T191830Z
LAST-MODIFIED:20190704T191830Z
UID:17384-1564160400-1564167600@www.redstoneliquors.com
SUMMARY:Jim Beam Highball (Stoneham)
DESCRIPTION:
URL:https://www.redstoneliquors.com/event/jim-beam-highball-stoneham-2/
END:VEVENT
BEGIN:VEVENT
DTSTART;TZID=America/New_York:20190719T160000
DTEND;TZID=America/New_York:20190719T180000
DTSTAMP:20260424T123830
CREATED:20190716T152957Z
LAST-MODIFIED:20190716T152957Z
UID:17398-1563552000-1563559200@www.redstoneliquors.com
SUMMARY:Interboro beer Tasting (Stoneham)
DESCRIPTION:
URL:https://www.redstoneliquors.com/event/interboro-beer-tasting-stoneham/
END:VEVENT
BEGIN:VEVENT
DTSTART;TZID=America/New_York:20190713T140000
DTEND;TZID=America/New_York:20190713T160000
DTSTAMP:20260424T123830
CREATED:20190704T191745Z
LAST-MODIFIED:20190704T191745Z
UID:17382-1563026400-1563033600@www.redstoneliquors.com
SUMMARY:Jim Beam Highball (Stoneham)
DESCRIPTION:
URL:https://www.redstoneliquors.com/event/jim-beam-highball-stoneham/
END:VEVENT
BEGIN:VEVENT
DTSTART;TZID=America/New_York:20190621T170000
DTEND;TZID=America/New_York:20190621T190000
DTSTAMP:20260424T123830
CREATED:20190424T134016Z
LAST-MODIFIED:20190424T134016Z
UID:17350-1561136400-1561143600@www.redstoneliquors.com
SUMMARY:Coole Swan Liquor tasting (Stoneham)
DESCRIPTION:
URL:https://www.redstoneliquors.com/event/coole-swan-liquor-tasting-stoneham/
END:VEVENT
BEGIN:VEVENT
DTSTART;TZID=America/New_York:20190614T160000
DTEND;TZID=America/New_York:20190614T190000
DTSTAMP:20260424T123830
CREATED:20190531T172749Z
LAST-MODIFIED:20190531T172749Z
UID:17372-1560528000-1560538800@www.redstoneliquors.com
SUMMARY:Spirits Tasting (stoneham)
DESCRIPTION:Inspired Beverage
URL:https://www.redstoneliquors.com/event/spirits-tasting-stoneham/
END:VEVENT
BEGIN:VEVENT
DTSTART;TZID=America/New_York:20190609T130000
DTEND;TZID=America/New_York:20190609T150000
DTSTAMP:20260424T123830
CREATED:20190527T001634Z
LAST-MODIFIED:20190527T001634Z
UID:17369-1560085200-1560092400@www.redstoneliquors.com
SUMMARY:Sip of Summer Tasting Experience
DESCRIPTION:https://www.eventbrite.com/e/a-sip-of-summer-tasting-experience-tickets-62375582045 \nGather your friends and enjoy a first of its kind experience at Redstone Liquors Stoneham. \nThis event features loads of Instagrammable pop-ups and unique experiences paired with summer’s trendiest top shelf libations. \nRosé & freshly shucked Oysters \,Champagne & macarons and many more pairings are sure to satisfy even the most discerning palates. Build your own flower bouquet or get your lips & lashes touched up by professionals all while tasting the newest creations from your favorite premium distilleries. \nWondering how to make quality drinks? World class mixologists will be in attendance showing you how to craft the perfect summer cocktails. \n100% of the ticket sales will be donated to Shriners Children’s hospital\, Boston. Ticketed patrons also go home with a gift bag packed with some quality swag from your favorite distilleries. \nGuests must be able to produce government issued photo identification to prove they are 21 and over. \nCheers!
URL:https://www.redstoneliquors.com/event/sip-of-summer-tasting-experience/
ATTACH;FMTTYPE=image/jpeg:https://www.redstoneliquors.com/wp-content/uploads/2019/05/61196997_10156075989446594_5888391899298922496_o.jpg
END:VEVENT
BEGIN:VEVENT
DTSTART;TZID=America/New_York:20190607T160000
DTEND;TZID=America/New_York:20190607T190000
DTSTAMP:20260424T123830
CREATED:20190515T191320Z
LAST-MODIFIED:20190515T191320Z
UID:17359-1559923200-1559934000@www.redstoneliquors.com
SUMMARY:Skakesbeer Tasting (Stoneham)
DESCRIPTION:
URL:https://www.redstoneliquors.com/event/skakesbeer-tasting-stoneham/
END:VEVENT
BEGIN:VEVENT
DTSTART;TZID=America/New_York:20190526T130000
DTEND;TZID=America/New_York:20190526T150000
DTSTAMP:20260424T123830
CREATED:20190524T195254Z
LAST-MODIFIED:20190524T195254Z
UID:17363-1558875600-1558882800@www.redstoneliquors.com
SUMMARY:Idle hands Slate Launch Tasting (Stoneham)
DESCRIPTION:
URL:https://www.redstoneliquors.com/event/idle-hands-slate-launch-tasting-stoneham/
END:VEVENT
BEGIN:VEVENT
DTSTART;TZID=America/New_York:20190517T170000
DTEND;TZID=America/New_York:20190517T190000
DTSTAMP:20260424T123830
CREATED:20190430T163210Z
LAST-MODIFIED:20190430T163210Z
UID:17353-1558112400-1558119600@www.redstoneliquors.com
SUMMARY:Wine Tasting (Stoneham)
DESCRIPTION:Blue Coast Distribution.
URL:https://www.redstoneliquors.com/event/wine-tasting-stoneham-9/
END:VEVENT
BEGIN:VEVENT
DTSTART;TZID=America/New_York:20190510T170000
DTEND;TZID=America/New_York:20190510T190000
DTSTAMP:20260424T123830
CREATED:20190213T164326Z
LAST-MODIFIED:20190213T164326Z
UID:17296-1557507600-1557514800@www.redstoneliquors.com
SUMMARY:Prospect Cider Stoneham
DESCRIPTION:
URL:https://www.redstoneliquors.com/event/prospect-cider-stoneham/
END:VEVENT
BEGIN:VEVENT
DTSTART;TZID=America/New_York:20190504T150000
DTEND;TZID=America/New_York:20190504T170000
DTSTAMP:20260424T123830
CREATED:20190410T143957Z
LAST-MODIFIED:20190410T143957Z
UID:17339-1556982000-1556989200@www.redstoneliquors.com
SUMMARY:Powell & Mahoney Cocktail Mixer Tasting (Stoneham)
DESCRIPTION:Powell & Mahoney – Craft Cocktail Mixers\nSaturday\, May 4th\, 2019 from 3:00pm
URL:https://www.redstoneliquors.com/event/powell-mahoney-cocktail-mixer-tasting-stoneham/
END:VEVENT
BEGIN:VEVENT
DTSTART;TZID=America/New_York:20190501T180000
DTEND;TZID=America/New_York:20190501T190000
DTSTAMP:20260424T123830
CREATED:20190422T202947Z
LAST-MODIFIED:20190422T202947Z
UID:17345-1556733600-1556737200@www.redstoneliquors.com
SUMMARY:Dalmore & Isle of Jura Classroom tasting event
DESCRIPTION:Join us for a sit down classroom tasting featuring Scotch whiskey from Dalmore as well as the Isle of Jura. Jon Gill master whiskey educator will taste you through a lineup from both of these world class distilleries and go over what makes each so special. \nWhere: Tatsing center @ Redstone Stoneham \nWhen: Wednesday May 1st 2019 @ 6:00pm \nCost: Free but seating is limited to first 25 people to RSVP by calling 781-438-9265 \n \n  \n 
URL:https://www.redstoneliquors.com/event/dalmore-isle-of-jura-classroom-tasting-event/
END:VEVENT
BEGIN:VEVENT
DTSTART;TZID=America/New_York:20190426T160000
DTEND;TZID=America/New_York:20190426T190000
DTSTAMP:20260424T123830
CREATED:20190311T192750Z
LAST-MODIFIED:20190311T192750Z
UID:17333-1556294400-1556305200@www.redstoneliquors.com
SUMMARY:Greater Good Brewing (Stoneham)
DESCRIPTION:
URL:https://www.redstoneliquors.com/event/greater-good-brewing-stoneham/
END:VEVENT
BEGIN:VEVENT
DTSTART;TZID=America/New_York:20190412T160000
DTEND;TZID=America/New_York:20190412T190000
DTSTAMP:20260424T123830
CREATED:20190313T135524Z
LAST-MODIFIED:20190313T135524Z
UID:17335-1555084800-1555095600@www.redstoneliquors.com
SUMMARY:Don Papa Rum (Stoneham)
DESCRIPTION:
URL:https://www.redstoneliquors.com/event/don-papa-rum-stoneham/
END:VEVENT
END:VCALENDAR