BEGIN:VCALENDAR
VERSION:2.0
PRODID:-//Redstone Liquors - ECPv6.15.11//NONSGML v1.0//EN
CALSCALE:GREGORIAN
METHOD:PUBLISH
X-WR-CALNAME:Redstone Liquors
X-ORIGINAL-URL:https://www.redstoneliquors.com
X-WR-CALDESC:Events for Redstone Liquors
REFRESH-INTERVAL;VALUE=DURATION:PT1H
X-Robots-Tag:noindex
X-PUBLISHED-TTL:PT1H
BEGIN:VTIMEZONE
TZID:America/New_York
BEGIN:DAYLIGHT
TZOFFSETFROM:-0500
TZOFFSETTO:-0400
TZNAME:EDT
DTSTART:20170312T070000
END:DAYLIGHT
BEGIN:STANDARD
TZOFFSETFROM:-0400
TZOFFSETTO:-0500
TZNAME:EST
DTSTART:20171105T060000
END:STANDARD
BEGIN:DAYLIGHT
TZOFFSETFROM:-0500
TZOFFSETTO:-0400
TZNAME:EDT
DTSTART:20180311T070000
END:DAYLIGHT
BEGIN:STANDARD
TZOFFSETFROM:-0400
TZOFFSETTO:-0500
TZNAME:EST
DTSTART:20181104T060000
END:STANDARD
BEGIN:DAYLIGHT
TZOFFSETFROM:-0500
TZOFFSETTO:-0400
TZNAME:EDT
DTSTART:20190310T070000
END:DAYLIGHT
BEGIN:STANDARD
TZOFFSETFROM:-0400
TZOFFSETTO:-0500
TZNAME:EST
DTSTART:20191103T060000
END:STANDARD
BEGIN:DAYLIGHT
TZOFFSETFROM:-0500
TZOFFSETTO:-0400
TZNAME:EDT
DTSTART:20200308T070000
END:DAYLIGHT
BEGIN:STANDARD
TZOFFSETFROM:-0400
TZOFFSETTO:-0500
TZNAME:EST
DTSTART:20201101T060000
END:STANDARD
END:VTIMEZONE
BEGIN:VEVENT
DTSTART;TZID=America/New_York:20190406T160000
DTEND;TZID=America/New_York:20190406T180000
DTSTAMP:20260425T071350
CREATED:20190215T211238Z
LAST-MODIFIED:20190215T211238Z
UID:17310-1554566400-1554573600@www.redstoneliquors.com
SUMMARY:Beefeater London Dry Gin & Pink Gin (Stoneham)
DESCRIPTION:
URL:https://www.redstoneliquors.com/event/beefeater-london-dry-gin-pink-gin-stoneham/
END:VEVENT
BEGIN:VEVENT
DTSTART;TZID=America/New_York:20190405T170000
DTEND;TZID=America/New_York:20190405T190000
DTSTAMP:20260425T071350
CREATED:20190213T164410Z
LAST-MODIFIED:20190213T164410Z
UID:17298-1554483600-1554490800@www.redstoneliquors.com
SUMMARY:Prospect Cider Andover
DESCRIPTION:
URL:https://www.redstoneliquors.com/event/prospect-cider-andover-2/
END:VEVENT
BEGIN:VEVENT
DTSTART;TZID=America/New_York:20190330T160000
DTEND;TZID=America/New_York:20190330T180000
DTSTAMP:20260425T071350
CREATED:20190215T211126Z
LAST-MODIFIED:20190215T211126Z
UID:17308-1553961600-1553968800@www.redstoneliquors.com
SUMMARY:Redbreast Irish Whiskey (Stoneham)
DESCRIPTION:
URL:https://www.redstoneliquors.com/event/redbreast-irish-whiskey-stoneham/
END:VEVENT
BEGIN:VEVENT
DTSTART;TZID=America/New_York:20190329T170000
DTEND;TZID=America/New_York:20190329T190000
DTSTAMP:20260425T071350
CREATED:20190215T211034Z
LAST-MODIFIED:20190215T211034Z
UID:17306-1553878800-1553886000@www.redstoneliquors.com
SUMMARY:Martell Cognac (Stoneham)
DESCRIPTION:
URL:https://www.redstoneliquors.com/event/martell-cognac-stoneham-3/
END:VEVENT
BEGIN:VEVENT
DTSTART;TZID=America/New_York:20190327T183000
DTEND;TZID=America/New_York:20190327T183000
DTSTAMP:20260425T071350
CREATED:20190308T212428Z
LAST-MODIFIED:20190308T212428Z
UID:17331-1553711400-1553711400@www.redstoneliquors.com
SUMMARY:Kavalan Whisky Classroom Event (Stoneham)
DESCRIPTION:  \nClassroom Tasting Event: Kavalan Whisky
URL:https://www.redstoneliquors.com/event/kavalan-whisky-classroom-event-stoneham/
ATTACH;FMTTYPE=image/png:https://www.redstoneliquors.com/wp-content/uploads/2019/03/Kavalan-Event.png
END:VEVENT
BEGIN:VEVENT
DTSTART;TZID=America/New_York:20190322T170000
DTEND;TZID=America/New_York:20190322T190000
DTSTAMP:20260425T071350
CREATED:20190215T210916Z
LAST-MODIFIED:20190215T210916Z
UID:17304-1553274000-1553281200@www.redstoneliquors.com
SUMMARY:Jameson Irish Whiskey (Stoneham)
DESCRIPTION:
URL:https://www.redstoneliquors.com/event/jameson-stoneham/
END:VEVENT
BEGIN:VEVENT
DTSTART;TZID=America/New_York:20190308T170000
DTEND;TZID=America/New_York:20190308T190000
DTSTAMP:20260425T071350
CREATED:20190215T210832Z
LAST-MODIFIED:20190215T210832Z
UID:17302-1552064400-1552071600@www.redstoneliquors.com
SUMMARY:Absolut Elyx (Stoneham)
DESCRIPTION:
URL:https://www.redstoneliquors.com/event/absolut-elyx-stoneham/
END:VEVENT
BEGIN:VEVENT
DTSTART;TZID=America/New_York:20190301T160000
DTEND;TZID=America/New_York:20190301T190000
DTSTAMP:20260425T071350
CREATED:20190110T171304Z
LAST-MODIFIED:20190110T171304Z
UID:17279-1551456000-1551466800@www.redstoneliquors.com
SUMMARY:FitVine Wine Tasting (Stoneham & Andover)
DESCRIPTION:
URL:https://www.redstoneliquors.com/event/fitvine-wine-tasting-stoneham-andover-2/
END:VEVENT
BEGIN:VEVENT
DTSTART;TZID=America/New_York:20190222T170000
DTEND;TZID=America/New_York:20190222T190000
DTSTAMP:20260425T071350
CREATED:20190215T210739Z
LAST-MODIFIED:20190215T210739Z
UID:17300-1550854800-1550862000@www.redstoneliquors.com
SUMMARY:Absolut Vodka (Stoneham)
DESCRIPTION:
URL:https://www.redstoneliquors.com/event/absolut-vodka-stoneham/
END:VEVENT
BEGIN:VEVENT
DTSTART;TZID=America/New_York:20190221T170000
DTEND;TZID=America/New_York:20190221T170000
DTSTAMP:20260425T071350
CREATED:20190221T140400Z
LAST-MODIFIED:20190221T140400Z
UID:17322-1550768400-1550768400@www.redstoneliquors.com
SUMMARY:Barrel release Four Roses OESV (Kam-Al Young bottling) - Stoneham
DESCRIPTION:
URL:https://www.redstoneliquors.com/event/barrel-release-four-roses-oesv-kam-al-young-bottling-stoneham/
END:VEVENT
BEGIN:VEVENT
DTSTART;TZID=America/New_York:20190215T160000
DTEND;TZID=America/New_York:20190215T190000
DTSTAMP:20260425T071350
CREATED:20190201T161609Z
LAST-MODIFIED:20190201T161609Z
UID:17290-1550246400-1550257200@www.redstoneliquors.com
SUMMARY:Finback Rolling in Clouds (Stoneham)
DESCRIPTION:
URL:https://www.redstoneliquors.com/event/finback-rolling-in-clouds-stoneham/
END:VEVENT
BEGIN:VEVENT
DTSTART;TZID=America/New_York:20190208T160000
DTEND;TZID=America/New_York:20190208T190000
DTSTAMP:20260425T071350
CREATED:20190110T171223Z
LAST-MODIFIED:20190110T171223Z
UID:17277-1549641600-1549652400@www.redstoneliquors.com
SUMMARY:FitVine Wine Tasting (Stoneham & Andover)
DESCRIPTION:
URL:https://www.redstoneliquors.com/event/fitvine-wine-tasting-stoneham-andover/
END:VEVENT
BEGIN:VEVENT
DTSTART;TZID=America/New_York:20190206T183000
DTEND;TZID=America/New_York:20190206T193000
DTSTAMP:20260425T071350
CREATED:20190129T155900Z
LAST-MODIFIED:20190129T155900Z
UID:17287-1549477800-1549481400@www.redstoneliquors.com
SUMMARY:Classroom Event: Rye Whisk(e)y & Cocktails (Stoneham)
DESCRIPTION:Join us as Laura Kanzer from Hotaling & Co. hosts a classroom event where you will get to learn all about Rye Whisk(e)y AND how to make classic rye cocktails with your own touch. Featuring Old Potrero Rye Single Malt Whiskey and Lot 40 Canadian Rye Whisky. That’s right\, we’ll compare Rye from Canada and Rye from the USA. \nThis class is FREE Seating but is limited to 20 People so don’t wait. Call 781-438-9265 today to reserve your spot today! \nWhen: Wednesday\, February 6th @ 6:30-7:30pm \nWhere: Tasting Center @ Redstone Liquors in Stoneham\, MA \nHow: Seating is limited to the first 20 People to register by calling Redstone Liquors\, Stoneham @ 781-438- 9265 to reserve your seat \nBonus: Lite bites\, discounts and swag to those in attendance.
URL:https://www.redstoneliquors.com/event/classroom-event-rye-whiskey-cocktails-stoneham/
ATTACH;FMTTYPE=image/jpeg:https://www.redstoneliquors.com/wp-content/uploads/2019/01/Unknown.jpeg
END:VEVENT
BEGIN:VEVENT
DTSTART;TZID=America/New_York:20190125T160000
DTEND;TZID=America/New_York:20190125T190000
DTSTAMP:20260425T071350
CREATED:20190118T161108Z
LAST-MODIFIED:20190118T161108Z
UID:17281-1548432000-1548442800@www.redstoneliquors.com
SUMMARY:Lone Pine Brewing (Andover)
DESCRIPTION:
URL:https://www.redstoneliquors.com/event/lone-pine-brewing-andover-2/
END:VEVENT
BEGIN:VEVENT
DTSTART;TZID=America/New_York:20181221T170000
DTEND;TZID=America/New_York:20181221T190000
DTSTAMP:20260425T071350
CREATED:20181027T025250Z
LAST-MODIFIED:20181027T025250Z
UID:17178-1545411600-1545418800@www.redstoneliquors.com
SUMMARY:Martell Cognac (Stoneham)
DESCRIPTION:
URL:https://www.redstoneliquors.com/event/martell-cognac-stoneham/
END:VEVENT
BEGIN:VEVENT
DTSTART;TZID=America/New_York:20181214T170000
DTEND;TZID=America/New_York:20181214T190000
DTSTAMP:20260425T071350
CREATED:20181027T025137Z
LAST-MODIFIED:20181027T025137Z
UID:17176-1544806800-1544814000@www.redstoneliquors.com
SUMMARY:Red Breast 12 & Lustau (Stoneham)
DESCRIPTION:
URL:https://www.redstoneliquors.com/event/red-breast-12-lustau-stoneham/
END:VEVENT
BEGIN:VEVENT
DTSTART;TZID=America/New_York:20181214T160000
DTEND;TZID=America/New_York:20181214T190000
DTSTAMP:20260425T071350
CREATED:20181030T173526Z
LAST-MODIFIED:20181030T173526Z
UID:17199-1544803200-1544814000@www.redstoneliquors.com
SUMMARY:Sipsmith London Dry Gin (Stoneham)
DESCRIPTION:
URL:https://www.redstoneliquors.com/event/sipsmith-london-dry-gin-stoneham-4/
END:VEVENT
BEGIN:VEVENT
DTSTART;TZID=America/New_York:20181214T160000
DTEND;TZID=America/New_York:20181214T190000
DTSTAMP:20260425T071350
CREATED:20181027T024646Z
LAST-MODIFIED:20181027T024646Z
UID:17168-1544803200-1544814000@www.redstoneliquors.com
SUMMARY:Wine Tasting with Bluecoast Distributing (Stoneham)
DESCRIPTION:
URL:https://www.redstoneliquors.com/event/wine-tasting-with-bluecoast-distributing-stoneham/
END:VEVENT
BEGIN:VEVENT
DTSTART;TZID=America/New_York:20181213T170000
DTEND;TZID=America/New_York:20181213T200000
DTSTAMP:20260425T071350
CREATED:20181204T180342Z
LAST-MODIFIED:20181204T180342Z
UID:17248-1544720400-1544731200@www.redstoneliquors.com
SUMMARY:Dewar's 12/ Dewar's 15 (Stoneham)
DESCRIPTION:
URL:https://www.redstoneliquors.com/event/dewars-12-dewars-15-stoneham/
END:VEVENT
BEGIN:VEVENT
DTSTART;TZID=America/New_York:20181213T150000
DTEND;TZID=America/New_York:20181213T170000
DTSTAMP:20260425T071350
CREATED:20181204T180308Z
LAST-MODIFIED:20181204T180308Z
UID:17246-1544713200-1544720400@www.redstoneliquors.com
SUMMARY:Grey Goose Vanilla / Grey Goose Le Poire (Stoneham)
DESCRIPTION:
URL:https://www.redstoneliquors.com/event/grey-goose-vanilla-grey-goose-le-poire-stoneham/
END:VEVENT
BEGIN:VEVENT
DTSTART;TZID=America/New_York:20181209T143000
DTEND;TZID=America/New_York:20181209T163000
DTSTAMP:20260425T071350
CREATED:20181130T171111Z
LAST-MODIFIED:20181130T171111Z
UID:17229-1544365800-1544373000@www.redstoneliquors.com
SUMMARY:Aberlour Scotch leather band engraving (stoneham)
DESCRIPTION:Swing by stoneham from 2:30 to 4:30 Sunday Dec 9th for a scotch tasting with aberlour and enjoy complementary leather band engraving on any bottles of aberlour purchased during that time\, \n  \n 
URL:https://www.redstoneliquors.com/event/aberlour-scotch-leather-band-engraving-stoneham/
END:VEVENT
BEGIN:VEVENT
DTSTART;TZID=America/New_York:20181207T170000
DTEND;TZID=America/New_York:20181207T190000
DTSTAMP:20260425T071350
CREATED:20181027T024947Z
LAST-MODIFIED:20181027T024947Z
UID:17174-1544202000-1544209200@www.redstoneliquors.com
SUMMARY:Glenlivet Founders Reserve / 12 Yr (Stoneham)
DESCRIPTION:
URL:https://www.redstoneliquors.com/event/glenlivet-founders-reserve-12-yr-stoneham/
END:VEVENT
BEGIN:VEVENT
DTSTART;TZID=America/New_York:20181201T130000
DTEND;TZID=America/New_York:20181201T160000
DTSTAMP:20260425T071350
CREATED:20181030T173456Z
LAST-MODIFIED:20181030T173456Z
UID:17197-1543669200-1543680000@www.redstoneliquors.com
SUMMARY:Sipsmith London Dry Gin (Stoneham)
DESCRIPTION:
URL:https://www.redstoneliquors.com/event/sipsmith-london-dry-gin-stoneham-3/
END:VEVENT
BEGIN:VEVENT
DTSTART;TZID=America/New_York:20181130T170000
DTEND;TZID=America/New_York:20181130T190000
DTSTAMP:20260425T071350
CREATED:20181102T133819Z
LAST-MODIFIED:20181102T133819Z
UID:17201-1543597200-1543604400@www.redstoneliquors.com
SUMMARY:Johnnie walker White Walker (Stoneham)
DESCRIPTION:
URL:https://www.redstoneliquors.com/event/johnnie-walker-white-walker-stoneham/
END:VEVENT
BEGIN:VEVENT
DTSTART;TZID=America/New_York:20181130T160000
DTEND;TZID=America/New_York:20181130T190000
DTSTAMP:20260425T071350
CREATED:20181030T173218Z
LAST-MODIFIED:20181030T173218Z
UID:17195-1543593600-1543604400@www.redstoneliquors.com
SUMMARY:Sipsmith London Dry Gin (Stoneham)
DESCRIPTION:
URL:https://www.redstoneliquors.com/event/sipsmith-london-dry-gin-stoneham-2/
END:VEVENT
BEGIN:VEVENT
DTSTART;TZID=America/New_York:20181128T080000
DTEND;TZID=America/New_York:20181128T170000
DTSTAMP:20260425T071350
CREATED:20181128T175942Z
LAST-MODIFIED:20181128T175942Z
UID:17224-1543392000-1543424400@www.redstoneliquors.com
SUMMARY:Classroom Tasting Event Macallan (Stoneham)
DESCRIPTION:Classroom Tasting Event Macallan \nWhen: Wednesday December 5th @6:30pm \nWhere: Tasting Center @ Redstone Liquors Stoneham \nCost: Free but limited to first 25 people to sign up by calling 781-438-9265 \nWe are happy to host Macallan in store on Wednesday December 5th for a Classroom style event on their world class Scotch Whiskey. \nSam Karachi Local brand ambassador will be in house sampling you through their lineup including \nDouble cask Gold\,\nDouble Cask 12 year\nTriple Cask 15 year\nRare Cask \nHe will also be dropping some knowledge on the new distillery along\, with what makes their brand of Scotch so unique and why its considered the benchmark to which other distilleries strive to be. \nAttendees of this event will be treated to complementary Hous D’oeuvres\, get 5% off of any Macallan Item that night as well as complementary gift packaging for purchased items from Macallan.
URL:https://www.redstoneliquors.com/event/classroom-tasting-event-macallan-stoneham/
END:VEVENT
BEGIN:VEVENT
DTSTART;TZID=America/New_York:20181116T170000
DTEND;TZID=America/New_York:20181116T190000
DTSTAMP:20260425T071350
CREATED:20181109T212730Z
LAST-MODIFIED:20181109T212730Z
UID:17207-1542387600-1542394800@www.redstoneliquors.com
SUMMARY:Walkup Scotch tasting with Dewar's Brand Ambassador (Stoneham)
DESCRIPTION:Swing by Stoneham on Friday November 16th form 5-7pm and sample some Dewar’s 12 year\, 15 year and 18 year old Blended Scotch whiskey with the Dewar’s brand Ambassador.  In addition to getting to try some world class scotch you could also win a pair of club seats to a Celtics Game and go home with some sweet Dewars Swag! \nAnyone who comes to sample that night anytime during the hours of 5-7pm will get entered to win a pair of Club seats to see the Celtics! The winner will be called right after the drawing at 7pm that night! anyone who purchases a btl that night will also go home with some Dewars Swag as well. \nHope to see you guys there\, Cheers!
URL:https://www.redstoneliquors.com/event/walkup-scotch-tasting-with-dewars-brand-ambassador-stoneham/
ATTACH;FMTTYPE=image/jpeg:https://www.redstoneliquors.com/wp-content/uploads/2018/11/images.jpeg
END:VEVENT
BEGIN:VEVENT
DTSTART;TZID=America/New_York:20181116T160000
DTEND;TZID=America/New_York:20181116T190000
DTSTAMP:20260425T071350
CREATED:20181023T151138Z
LAST-MODIFIED:20181023T151138Z
UID:17148-1542384000-1542394800@www.redstoneliquors.com
SUMMARY:A to Z Wine Tasting (Andover)
DESCRIPTION:
URL:https://www.redstoneliquors.com/event/a-to-z-wine-tasting-andover/
END:VEVENT
BEGIN:VEVENT
DTSTART;TZID=America/New_York:20181109T170000
DTEND;TZID=America/New_York:20181109T190000
DTSTAMP:20260425T071350
CREATED:20181027T024819Z
LAST-MODIFIED:20181027T024819Z
UID:17172-1541782800-1541790000@www.redstoneliquors.com
SUMMARY:Kahula Flavors (Stoneham)
DESCRIPTION:
URL:https://www.redstoneliquors.com/event/kahula-flavors-stoneham-2/
END:VEVENT
BEGIN:VEVENT
DTSTART;TZID=America/New_York:20181106T183000
DTEND;TZID=America/New_York:20181106T193000
DTSTAMP:20260425T071350
CREATED:20181027T030051Z
LAST-MODIFIED:20181027T030051Z
UID:17182-1541529000-1541532600@www.redstoneliquors.com
SUMMARY:Classroom Scotch Tasting with Balblair\, Old Pulteney and anCnoc Global Brand Ambassador
DESCRIPTION:Date: Tuesday November 6th \nTime 6:30pm \nCost: $10 to reserve your seat ($10 gift card given to each attendee at class) \nSeating is limited to the first 24 people to reserve their seats by calling 781-438-9265 \nLukasz Dynowiak\, the founder of the world-renowned Edinburgh Whisky Blog\, and global brand ambassador for Balblair\, Old Pulteney and anCnoc will host a single malt tasting at Redstone Liquors on Tuesday\, November 6. \nLukasz’s passion for single malt is only outstripped by his knowledge for Scottish distilling. At this tasting: Lukasz will take you through Balblair\, Old Pulteney and anCnoc sampling you on the following whiskies: (more on Lukasz below) \nOld Pulteney 12yr \nOld Pulteney 17yr (San Francisco Worlds Spirits Competition – Double Gold) \nBalblair 1999\, 17yr \nBalblair 1990\, 26yr \nanCnoc 18yr \nanCnoc Rascan \nLukasz is a phenomenal presenter and these are can’t miss whiskies. We hope you will join us! \n  \nLukasz Dynowiak’s contagious passion for Scottish distilling and his refreshingly demystifying approach to fine spirits has over the years made him one of the most recognisable whisky experts. Having started his professional involvement with Scotland’s national drink at The Scotch Whisky Heritage Centre in Edinburgh\, he subsequently built the most influential whisky blog in the UK\, developed a successful drinks consultancy\, judged international spirits competitions and wrote for a number of publications\, including co-authoring the acclaimed ‘1001 whiskies you must try before you die’. In 2015 Lukasz was appointed Global Brand Ambassador at International Beverage\, taking on a unique role with one of the most revered producers of fine spirits in the world. Now\, as the head of the Outreach programme\, he describes his job as constantly oiling the joint between the conservative world of whisky-making and the modern knowledgeable drinker.
URL:https://www.redstoneliquors.com/event/classroom-scotch-tasting-with-balblair-old-pulteney-and-ancnoc-global-brand-ambassador/
END:VEVENT
END:VCALENDAR