BEGIN:VCALENDAR
VERSION:2.0
PRODID:-//Redstone Liquors - ECPv6.15.11//NONSGML v1.0//EN
CALSCALE:GREGORIAN
METHOD:PUBLISH
X-WR-CALNAME:Redstone Liquors
X-ORIGINAL-URL:https://www.redstoneliquors.com
X-WR-CALDESC:Events for Redstone Liquors
REFRESH-INTERVAL;VALUE=DURATION:PT1H
X-Robots-Tag:noindex
X-PUBLISHED-TTL:PT1H
BEGIN:VTIMEZONE
TZID:America/New_York
BEGIN:DAYLIGHT
TZOFFSETFROM:-0500
TZOFFSETTO:-0400
TZNAME:EDT
DTSTART:20160313T070000
END:DAYLIGHT
BEGIN:STANDARD
TZOFFSETFROM:-0400
TZOFFSETTO:-0500
TZNAME:EST
DTSTART:20161106T060000
END:STANDARD
BEGIN:DAYLIGHT
TZOFFSETFROM:-0500
TZOFFSETTO:-0400
TZNAME:EDT
DTSTART:20170312T070000
END:DAYLIGHT
BEGIN:STANDARD
TZOFFSETFROM:-0400
TZOFFSETTO:-0500
TZNAME:EST
DTSTART:20171105T060000
END:STANDARD
BEGIN:DAYLIGHT
TZOFFSETFROM:-0500
TZOFFSETTO:-0400
TZNAME:EDT
DTSTART:20180311T070000
END:DAYLIGHT
BEGIN:STANDARD
TZOFFSETFROM:-0400
TZOFFSETTO:-0500
TZNAME:EST
DTSTART:20181104T060000
END:STANDARD
END:VTIMEZONE
BEGIN:VEVENT
DTSTART;TZID=America/New_York:20171229T160000
DTEND;TZID=America/New_York:20171229T190000
DTSTAMP:20260425T125120
CREATED:20171027T132630Z
LAST-MODIFIED:20171027T132630Z
UID:16894-1514563200-1514574000@www.redstoneliquors.com
SUMMARY:Prosecco Tasting (Stoneham)
DESCRIPTION:
URL:https://www.redstoneliquors.com/event/prosecco-tasting-stoneham/
END:VEVENT
BEGIN:VEVENT
DTSTART;TZID=America/New_York:20171216T150000
DTEND;TZID=America/New_York:20171216T170000
DTSTAMP:20260425T125120
CREATED:20171027T130327Z
LAST-MODIFIED:20171027T130327Z
UID:16892-1513436400-1513443600@www.redstoneliquors.com
SUMMARY:Macallan Scotch (Stoneham)
DESCRIPTION:
URL:https://www.redstoneliquors.com/event/macallan-scotch-stoneham/
END:VEVENT
BEGIN:VEVENT
DTSTART;TZID=America/New_York:20171215T170000
DTEND;TZID=America/New_York:20171215T190000
DTSTAMP:20260425T125120
CREATED:20171120T221641Z
LAST-MODIFIED:20171120T221641Z
UID:16922-1513357200-1513364400@www.redstoneliquors.com
SUMMARY:Glenlevit Gift Wrapping event (Stoneham)
DESCRIPTION:Swing by stoneham taste some Glenlevit\, decide to purchase and Glenlevit will giftwrap for you. \n 
URL:https://www.redstoneliquors.com/event/glenlevit-gift-wrapping-event-stoneham/
END:VEVENT
BEGIN:VEVENT
DTSTART;TZID=America/New_York:20171215T170000
DTEND;TZID=America/New_York:20171215T190000
DTSTAMP:20260425T125120
CREATED:20171027T130226Z
LAST-MODIFIED:20171027T130226Z
UID:16890-1513357200-1513364400@www.redstoneliquors.com
SUMMARY:Exhibit A Brewing (Stoneham)
DESCRIPTION:
URL:https://www.redstoneliquors.com/event/exhibit-a-brewing-stoneham/
END:VEVENT
BEGIN:VEVENT
DTSTART;TZID=America/New_York:20171215T160000
DTEND;TZID=America/New_York:20171215T190000
DTSTAMP:20260425T125120
CREATED:20171102T235735Z
LAST-MODIFIED:20171102T235735Z
UID:16901-1513353600-1513364400@www.redstoneliquors.com
SUMMARY:Wine Tasting (stoneham)
DESCRIPTION:ruby wines
URL:https://www.redstoneliquors.com/event/wine-tasting-stoneham-8/
END:VEVENT
BEGIN:VEVENT
DTSTART;TZID=America/New_York:20171209T150000
DTEND;TZID=America/New_York:20171209T160000
DTSTAMP:20260425T125120
CREATED:20171027T130130Z
LAST-MODIFIED:20171027T130130Z
UID:16888-1512831600-1512835200@www.redstoneliquors.com
SUMMARY:Grey Goose (Stoneham)
DESCRIPTION:
URL:https://www.redstoneliquors.com/event/grey-goose-stoneham-2/
END:VEVENT
BEGIN:VEVENT
DTSTART;TZID=America/New_York:20171209T130000
DTEND;TZID=America/New_York:20171209T150000
DTSTAMP:20260425T125120
CREATED:20171027T130037Z
LAST-MODIFIED:20171027T130037Z
UID:16886-1512824400-1512831600@www.redstoneliquors.com
SUMMARY:Martini & Rossi (Stoneham)
DESCRIPTION:
URL:https://www.redstoneliquors.com/event/martini-rossi-stoneham/
END:VEVENT
BEGIN:VEVENT
DTSTART;TZID=America/New_York:20171208T170000
DTEND;TZID=America/New_York:20171208T190000
DTSTAMP:20260425T125120
CREATED:20171027T125907Z
LAST-MODIFIED:20171027T125907Z
UID:16882-1512752400-1512759600@www.redstoneliquors.com
SUMMARY:Exhibit A Brewing (Andover)
DESCRIPTION:
URL:https://www.redstoneliquors.com/event/exhibit-a-brewing-andover/
END:VEVENT
BEGIN:VEVENT
DTSTART;TZID=America/New_York:20171208T160000
DTEND;TZID=America/New_York:20171208T190000
DTSTAMP:20260425T125120
CREATED:20171027T125944Z
LAST-MODIFIED:20171027T125944Z
UID:16884-1512748800-1512759600@www.redstoneliquors.com
SUMMARY:Tenure Vodka (Stoneham)
DESCRIPTION:
URL:https://www.redstoneliquors.com/event/tenure-vodka-stoneham/
END:VEVENT
BEGIN:VEVENT
DTSTART;TZID=America/New_York:20171202T130000
DTEND;TZID=America/New_York:20171202T150000
DTSTAMP:20260425T125120
CREATED:20171027T125822Z
LAST-MODIFIED:20171027T125822Z
UID:16880-1512219600-1512226800@www.redstoneliquors.com
SUMMARY:1st Ever Redstone Whiskey Fest (Stoneham)
DESCRIPTION:
URL:https://www.redstoneliquors.com/event/1st-ever-redstone-whiskey-fest-stoneham/
END:VEVENT
BEGIN:VEVENT
DTSTART;TZID=America/New_York:20171125T150000
DTEND;TZID=America/New_York:20171125T170000
DTSTAMP:20260425T125120
CREATED:20171027T125722Z
LAST-MODIFIED:20171027T125722Z
UID:16878-1511622000-1511629200@www.redstoneliquors.com
SUMMARY:Dewars 12 year (Stoneham)
DESCRIPTION:
URL:https://www.redstoneliquors.com/event/dewars-12-year-stoneham/
END:VEVENT
BEGIN:VEVENT
DTSTART;TZID=America/New_York:20171125T130000
DTEND;TZID=America/New_York:20171125T150000
DTSTAMP:20260425T125120
CREATED:20171027T125644Z
LAST-MODIFIED:20171027T125644Z
UID:16876-1511614800-1511622000@www.redstoneliquors.com
SUMMARY:Grey Goose (Stoneham)
DESCRIPTION:
URL:https://www.redstoneliquors.com/event/grey-goose-stoneham/
END:VEVENT
BEGIN:VEVENT
DTSTART;TZID=America/New_York:20171118T140000
DTEND;TZID=America/New_York:20171118T160000
DTSTAMP:20260425T125120
CREATED:20171027T125600Z
LAST-MODIFIED:20171027T125600Z
UID:16874-1511013600-1511020800@www.redstoneliquors.com
SUMMARY:New Belgium Brewing Glass etching (stoneham)
DESCRIPTION:
URL:https://www.redstoneliquors.com/event/new-belgium-brewing-glass-etching-stoneham/
END:VEVENT
BEGIN:VEVENT
DTSTART;TZID=America/New_York:20171117T160000
DTEND;TZID=America/New_York:20171117T190000
DTSTAMP:20260425T125120
CREATED:20171102T235642Z
LAST-MODIFIED:20171102T235642Z
UID:16899-1510934400-1510945200@www.redstoneliquors.com
SUMMARY:Wine Tasting (Stoneham)
DESCRIPTION:Ruby Wines
URL:https://www.redstoneliquors.com/event/wine-tasting-stoneham-7/
END:VEVENT
BEGIN:VEVENT
DTSTART;TZID=America/New_York:20171117T160000
DTEND;TZID=America/New_York:20171117T190000
DTSTAMP:20260425T125120
CREATED:20171027T125507Z
LAST-MODIFIED:20171027T125507Z
UID:16872-1510934400-1510945200@www.redstoneliquors.com
SUMMARY:Night Shift Brewing (Stoneham)
DESCRIPTION:
URL:https://www.redstoneliquors.com/event/night-shift-brewing-stoneham/
END:VEVENT
BEGIN:VEVENT
DTSTART;TZID=America/New_York:20171110T160000
DTEND;TZID=America/New_York:20171110T190000
DTSTAMP:20260425T125120
CREATED:20171027T125425Z
LAST-MODIFIED:20171027T125425Z
UID:16870-1510329600-1510340400@www.redstoneliquors.com
SUMMARY:Troegs Brewing & Tenure Vodka (Stoneham)
DESCRIPTION:
URL:https://www.redstoneliquors.com/event/troegs-brewing-tenure-vodka-stoneham/
END:VEVENT
BEGIN:VEVENT
DTSTART;TZID=America/New_York:20171109T183000
DTEND;TZID=America/New_York:20171109T193000
DTSTAMP:20260425T125120
CREATED:20171027T125335Z
LAST-MODIFIED:20171027T125335Z
UID:16868-1510252200-1510255800@www.redstoneliquors.com
SUMMARY:Whiskey Classroom Event (Stoneham)
DESCRIPTION:Details to come soon
URL:https://www.redstoneliquors.com/event/whiskey-classroom-event-stoneham/
END:VEVENT
BEGIN:VEVENT
DTSTART;TZID=America/New_York:20171103T160000
DTEND;TZID=America/New_York:20171103T190000
DTSTAMP:20260425T125120
CREATED:20171027T125112Z
LAST-MODIFIED:20171027T125112Z
UID:16866-1509724800-1509735600@www.redstoneliquors.com
SUMMARY:Wachusett Brewing (Stoneham)
DESCRIPTION:
URL:https://www.redstoneliquors.com/event/wachusett-brewing-stoneham/
END:VEVENT
BEGIN:VEVENT
DTSTART;TZID=America/New_York:20171103T160000
DTEND;TZID=America/New_York:20171103T190000
DTSTAMP:20260425T125120
CREATED:20171027T125031Z
LAST-MODIFIED:20171027T125031Z
UID:16864-1509724800-1509735600@www.redstoneliquors.com
SUMMARY:Berkshire Spirits (Stoneham)
DESCRIPTION:
URL:https://www.redstoneliquors.com/event/berkshire-spirits-stoneham/
END:VEVENT
BEGIN:VEVENT
DTSTART;TZID=America/New_York:20171101T183000
DTEND;TZID=America/New_York:20171101T193000
DTSTAMP:20260425T125120
CREATED:20171027T124856Z
LAST-MODIFIED:20171027T124856Z
UID:16862-1509561000-1509564600@www.redstoneliquors.com
SUMMARY:Highland Park Classroom event (Stoneham)
DESCRIPTION:We are happy to host Sam Karachi Brand Ambassador for Highland Park distillery for an exclusive Single malt scotch private classroom tasting. He will walk you through the Highland Park line including The new Magnus\, Dark origins\, 12 year\, 18 year\, Valkyrie\, and a new surprise that may be landing in MA that day! Attendees will be going home with swag as well as an opportunity to purchase anything tasted at 5% off our regular price. \nWhere: This event will be held at the tasting center @ Redstone Liquors Stoneham\nWhen: Wednesday November 1sh 2017 | 6:30pm-7:30pm \nThis event is Free but you must call 781-438-9265 to reserve your seat as seating is limited to the first 20 people to sign up.
URL:https://www.redstoneliquors.com/event/highland-park-classroom-event-stoneham/
ATTACH;FMTTYPE=image/jpeg:https://www.redstoneliquors.com/wp-content/uploads/2017/10/IMG_1179.jpg
END:VEVENT
BEGIN:VEVENT
DTSTART;TZID=America/New_York:20171028T150000
DTEND;TZID=America/New_York:20171028T170000
DTSTAMP:20260425T125120
CREATED:20171027T124732Z
LAST-MODIFIED:20171027T124732Z
UID:16860-1509202800-1509210000@www.redstoneliquors.com
SUMMARY:Martini & Rossi Sparkling wine (Stoneham)
DESCRIPTION:
URL:https://www.redstoneliquors.com/event/martini-rossi-sparkling-wine-stoneham/
END:VEVENT
BEGIN:VEVENT
DTSTART;TZID=America/New_York:20171027T160000
DTEND;TZID=America/New_York:20171027T190000
DTSTAMP:20260425T125120
CREATED:20171027T124607Z
LAST-MODIFIED:20171027T124607Z
UID:16858-1509120000-1509130800@www.redstoneliquors.com
SUMMARY:Coppola Wine tasting (Stoneham)
DESCRIPTION:
URL:https://www.redstoneliquors.com/event/coppola-wine-tasting-stoneham/
END:VEVENT
BEGIN:VEVENT
DTSTART;TZID=America/New_York:20171027T160000
DTEND;TZID=America/New_York:20171027T190000
DTSTAMP:20260425T125120
CREATED:20171027T124522Z
LAST-MODIFIED:20171027T124522Z
UID:16856-1509120000-1509130800@www.redstoneliquors.com
SUMMARY:Jameson Caskmates and harpoon IPA (stoneham)
DESCRIPTION:
URL:https://www.redstoneliquors.com/event/jameson-caskmates-and-harpoon-ipa-stoneham/
END:VEVENT
BEGIN:VEVENT
DTSTART;TZID=America/New_York:20171013T160000
DTEND;TZID=America/New_York:20171013T190000
DTSTAMP:20260425T125120
CREATED:20170816T205804Z
LAST-MODIFIED:20170816T205804Z
UID:16813-1507910400-1507921200@www.redstoneliquors.com
SUMMARY:Two Roads (Stoneham)
DESCRIPTION:
URL:https://www.redstoneliquors.com/event/two-roads-stoneham/
END:VEVENT
BEGIN:VEVENT
DTSTART;TZID=America/New_York:20171006T170000
DTEND;TZID=America/New_York:20171006T190000
DTSTAMP:20260425T125120
CREATED:20170816T205717Z
LAST-MODIFIED:20170816T205717Z
UID:16811-1507309200-1507316400@www.redstoneliquors.com
SUMMARY:Grand Ten Distilling (Stoneham)
DESCRIPTION:
URL:https://www.redstoneliquors.com/event/grand-ten-distilling-stoneham-4/
END:VEVENT
BEGIN:VEVENT
DTSTART;TZID=America/New_York:20170929T160000
DTEND;TZID=America/New_York:20170929T190000
DTSTAMP:20260425T125120
CREATED:20170816T205619Z
LAST-MODIFIED:20170816T205619Z
UID:16809-1506700800-1506711600@www.redstoneliquors.com
SUMMARY:Revival Brewing (Stoneham)
DESCRIPTION:
URL:https://www.redstoneliquors.com/event/revival-brewing-stoneham-3/
END:VEVENT
BEGIN:VEVENT
DTSTART;TZID=America/New_York:20170922T170000
DTEND;TZID=America/New_York:20170922T190000
DTSTAMP:20260425T125120
CREATED:20170831T153704Z
LAST-MODIFIED:20170831T153704Z
UID:16824-1506099600-1506106800@www.redstoneliquors.com
SUMMARY:Glenmorangie (Stoneham)
DESCRIPTION:
URL:https://www.redstoneliquors.com/event/glenmorangie-stoneham/
END:VEVENT
BEGIN:VEVENT
DTSTART;TZID=America/New_York:20170920T063000
DTEND;TZID=America/New_York:20170920T193000
DTSTAMP:20260425T125120
CREATED:20170913T143716Z
LAST-MODIFIED:20170913T143716Z
UID:16830-1505889000-1505935800@www.redstoneliquors.com
SUMMARY:Compass Box Classroom tasting event
DESCRIPTION:Compass Box Whiskey Classroom Event \n \nWe are happy to host Kerrin from Compass Box Whiskey Co. for a private classroom tasting event. She will be featuring our four unique collaborative single marrying casks of the great king street\, the limited edition double single as well as a bottle form their core lineup. \nWe are especially pumped about the four unique marrying casks as they are only available at three places across the United States. This is fun experience as it will showcase the same whiskey finished in different casks and why each imparts its own unique profile. \nAs a bonus to anyone who attends the event 10% will be given off the purchase of any compass box product. \nWhen: Wednesday September 20th 6:30-7:30pm \nWhere:Tasting room @ Redstone Liquors Stoneham \nCost: Free but limited to the first 18 people to sign up by calling the stoneham location at 781-438-9265. (Must be over 21 to attend)
URL:https://www.redstoneliquors.com/event/compass-box-classroom-tasting-event/
ATTACH;FMTTYPE=image/jpeg:https://www.redstoneliquors.com/wp-content/uploads/2017/09/Compass-box-whisky.jpg
END:VEVENT
BEGIN:VEVENT
DTSTART;TZID=America/New_York:20170915T160000
DTEND;TZID=America/New_York:20170915T190000
DTSTAMP:20260425T125120
CREATED:20170816T205326Z
LAST-MODIFIED:20170816T205326Z
UID:16807-1505491200-1505502000@www.redstoneliquors.com
SUMMARY:Two Roads Brewing (Andover)
DESCRIPTION:
URL:https://www.redstoneliquors.com/event/two-roads-brewing-andover/
END:VEVENT
BEGIN:VEVENT
DTSTART;TZID=America/New_York:20170908T160000
DTEND;TZID=America/New_York:20170908T190000
DTSTAMP:20260425T125120
CREATED:20170816T205233Z
LAST-MODIFIED:20170816T205233Z
UID:16805-1504886400-1504897200@www.redstoneliquors.com
SUMMARY:Prospect Cider (Andover)
DESCRIPTION:
URL:https://www.redstoneliquors.com/event/prospect-cider-andover/
END:VEVENT
END:VCALENDAR