BEGIN:VCALENDAR
VERSION:2.0
PRODID:-//Redstone Liquors - ECPv6.15.11//NONSGML v1.0//EN
CALSCALE:GREGORIAN
METHOD:PUBLISH
X-WR-CALNAME:Redstone Liquors
X-ORIGINAL-URL:https://www.redstoneliquors.com
X-WR-CALDESC:Events for Redstone Liquors
REFRESH-INTERVAL;VALUE=DURATION:PT1H
X-Robots-Tag:noindex
X-PUBLISHED-TTL:PT1H
BEGIN:VTIMEZONE
TZID:America/New_York
BEGIN:DAYLIGHT
TZOFFSETFROM:-0500
TZOFFSETTO:-0400
TZNAME:EDT
DTSTART:20150308T070000
END:DAYLIGHT
BEGIN:STANDARD
TZOFFSETFROM:-0400
TZOFFSETTO:-0500
TZNAME:EST
DTSTART:20151101T060000
END:STANDARD
BEGIN:DAYLIGHT
TZOFFSETFROM:-0500
TZOFFSETTO:-0400
TZNAME:EDT
DTSTART:20160313T070000
END:DAYLIGHT
BEGIN:STANDARD
TZOFFSETFROM:-0400
TZOFFSETTO:-0500
TZNAME:EST
DTSTART:20161106T060000
END:STANDARD
BEGIN:DAYLIGHT
TZOFFSETFROM:-0500
TZOFFSETTO:-0400
TZNAME:EDT
DTSTART:20170312T070000
END:DAYLIGHT
BEGIN:STANDARD
TZOFFSETFROM:-0400
TZOFFSETTO:-0500
TZNAME:EST
DTSTART:20171105T060000
END:STANDARD
END:VTIMEZONE
BEGIN:VEVENT
DTSTART;TZID=America/New_York:20161209T160000
DTEND;TZID=America/New_York:20161209T190000
DTSTAMP:20260425T115519
CREATED:20161116T181537Z
LAST-MODIFIED:20161116T181537Z
UID:16569-1481299200-1481310000@www.redstoneliquors.com
SUMMARY:Wine tasting (Stoneham)
DESCRIPTION:
URL:https://www.redstoneliquors.com/event/wine-tasting-stoneham-3/
END:VEVENT
BEGIN:VEVENT
DTSTART;TZID=America/New_York:20161209T160000
DTEND;TZID=America/New_York:20161209T190000
DTSTAMP:20260425T115519
CREATED:20161022T205602Z
LAST-MODIFIED:20161022T205602Z
UID:16560-1481299200-1481310000@www.redstoneliquors.com
SUMMARY:Lost Distillery Scotch Tasting
DESCRIPTION:Swing by Stoneham from 4-7 and join the Lost Distillery for a Scotch Tasting including our Redstone Exclusive Highland Malt whiskey finished in French Margot wine barrels.
URL:https://www.redstoneliquors.com/event/lost-distillery-scotch-tasting/
END:VEVENT
BEGIN:VEVENT
DTSTART;TZID=America/New_York:20161202T160000
DTEND;TZID=America/New_York:20161202T190000
DTSTAMP:20260425T115519
CREATED:20161022T205049Z
LAST-MODIFIED:20161022T205049Z
UID:16558-1480694400-1480705200@www.redstoneliquors.com
SUMMARY:Stoneface Beer Tasting Andover
DESCRIPTION:Swing by Andover from 4-7 for a beer tasting with Stoneface Brewing.
URL:https://www.redstoneliquors.com/event/stoneface-beer-tasting-andover/
END:VEVENT
BEGIN:VEVENT
DTSTART;TZID=America/New_York:20161202T160000
DTEND;TZID=America/New_York:20161202T190000
DTSTAMP:20260425T115519
CREATED:20161004T204938Z
LAST-MODIFIED:20161004T204938Z
UID:16528-1480694400-1480705200@www.redstoneliquors.com
SUMMARY:Flying Dreams Brewing Stoneham
DESCRIPTION:Swing by and join Flying Dreams brewing for a Beer tasting in Stoneham from 4-7.
URL:https://www.redstoneliquors.com/event/flying-dreams-brewing-stoneham/
CATEGORIES:Beer tasting
END:VEVENT
BEGIN:VEVENT
DTSTART;TZID=America/New_York:20161118T160000
DTEND;TZID=America/New_York:20161118T190000
DTSTAMP:20260425T115519
CREATED:20161022T204846Z
LAST-MODIFIED:20161022T204846Z
UID:16556-1479484800-1479495600@www.redstoneliquors.com
SUMMARY:Jam Cellars Wine Tasting (Stoneham)
DESCRIPTION:Swing by from Stoneham from 4-7 for a Wine tasting with teh folks form Jam Cellars. Try their Butter Chard\, Jam Cabernet sauvignon and Toast Sparking wine. Cheers!
URL:https://www.redstoneliquors.com/event/jam-cellars-wine-tasting-stoneham/
END:VEVENT
BEGIN:VEVENT
DTSTART;TZID=America/New_York:20161118T160000
DTEND;TZID=America/New_York:20161118T190000
DTSTAMP:20260425T115519
CREATED:20161022T204709Z
LAST-MODIFIED:20161022T204709Z
UID:16554-1479484800-1479495600@www.redstoneliquors.com
SUMMARY:Grand Ten Distilling (Stoneham)
DESCRIPTION:Swing by Stoneham and Join Grand Ten distilling for a spirits tasting from 4-7pm
URL:https://www.redstoneliquors.com/event/grand-ten-distilling-stoneham-3/
END:VEVENT
BEGIN:VEVENT
DTSTART;TZID=America/New_York:20161118T160000
DTEND;TZID=America/New_York:20161118T190000
DTSTAMP:20260425T115519
CREATED:20161004T204842Z
LAST-MODIFIED:20161004T204842Z
UID:16526-1479484800-1479495600@www.redstoneliquors.com
SUMMARY:Sierra Nevada Stoneham
DESCRIPTION:Swing by and join Sierra Nevada for a Beer tasting in Stoneham from 4-7.
URL:https://www.redstoneliquors.com/event/sierra-nevada-stoneham/
END:VEVENT
BEGIN:VEVENT
DTSTART;TZID=America/New_York:20161111T160000
DTEND;TZID=America/New_York:20161111T170000
DTSTAMP:20260425T115519
CREATED:20161022T203546Z
LAST-MODIFIED:20161022T203546Z
UID:16552-1478880000-1478883600@www.redstoneliquors.com
SUMMARY:Eastside Distilling (Stoneham)
DESCRIPTION:Swing by Stoneham and join Eastside Distilling for a spirits tasting
URL:https://www.redstoneliquors.com/event/eastside-distilling-stoneham/
CATEGORIES:Beer tasting
END:VEVENT
BEGIN:VEVENT
DTSTART;TZID=America/New_York:20161109T180000
DTEND;TZID=America/New_York:20161109T190000
DTSTAMP:20260425T115519
CREATED:20161004T210528Z
LAST-MODIFIED:20161004T210528Z
UID:16532-1478714400-1478718000@www.redstoneliquors.com
SUMMARY:Glenrothes Scotch Classroom event
DESCRIPTION:Join us for a classroom event featuring Glenrothes Scotch. Kelly from Anchor spirits will be hosting the event and will taste you through their lineup of world class Scotch. Event space is limited so please call the stoneham location (781-438-9265) to secure your spot today. \nTickets for this event are $30/person and each attendee will get a Tri Pack sampler of glenrothes scotch ( a $30 value) to take home with them as well as a discount on any items tasted through that night. \n  \n 
URL:https://www.redstoneliquors.com/event/glenrothes-scotch-classroom-event/
END:VEVENT
BEGIN:VEVENT
DTSTART;TZID=America/New_York:20161104T160000
DTEND;TZID=America/New_York:20161104T190000
DTSTAMP:20260425T115519
CREATED:20161022T202154Z
LAST-MODIFIED:20161022T202154Z
UID:16550-1478275200-1478286000@www.redstoneliquors.com
SUMMARY:Reckless Love Wine Tasting (Andover)
DESCRIPTION:Swing by and join us for a wine tasting in Andover from 4-7 with the folks from Rebel Coast winery as they taste you through their lineup of wines including staff favorite Reckless love.
URL:https://www.redstoneliquors.com/event/reckless-love-wine-tasting-andover/
END:VEVENT
BEGIN:VEVENT
DTSTART;TZID=America/New_York:20161104T160000
DTEND;TZID=America/New_York:20161104T190000
DTSTAMP:20260425T115519
CREATED:20161004T204657Z
LAST-MODIFIED:20161004T204657Z
UID:16522-1478275200-1478286000@www.redstoneliquors.com
SUMMARY:Altech Beer tasting
DESCRIPTION:Swing by and join Altect as they sample you through their lineup of beers in Stoneham (4-7pm)
URL:https://www.redstoneliquors.com/event/altech-beer-tasting/
END:VEVENT
BEGIN:VEVENT
DTSTART;TZID=America/New_York:20161102T183000
DTEND;TZID=America/New_York:20161102T193000
DTSTAMP:20260425T115519
CREATED:20161004T205638Z
LAST-MODIFIED:20161004T205638Z
UID:16530-1478111400-1478115000@www.redstoneliquors.com
SUMMARY:Paint Night + Nightshift Tasting
DESCRIPTION:Swing by and join us for our first Paint night in our classroom! We will have a side by side tasting with the folks from Nightshift Brewing and you will be painting a Hop Owl themed canvas that you will take home with the guidance of Lauria Marie from Kidcasso Art studio in Wakefield. \nHosting the event will be Lauria owner of Kidcasso Art school in Wakefield & NightShift Brewing. \nThis event will cost $25 and will include all canvas and supplies as well as beer that will be tasted during the event. \nSeating is limited to the first 15 folks to register by calling the Stoneham store at 781-438-9265 \n 
URL:https://www.redstoneliquors.com/event/paint-night-tasting/
END:VEVENT
BEGIN:VEVENT
DTSTART;TZID=America/New_York:20161028T160000
DTEND;TZID=America/New_York:20161028T190000
DTSTAMP:20260425T115519
CREATED:20161004T204549Z
LAST-MODIFIED:20161004T204549Z
UID:16520-1477670400-1477681200@www.redstoneliquors.com
SUMMARY:Cisco Brewing Stoneham
DESCRIPTION:Swing by and join Cisco brewing for a Beer tasting in Stoneham from 4-7.
URL:https://www.redstoneliquors.com/event/cisco-brewing-stoneham/
END:VEVENT
BEGIN:VEVENT
DTSTART;TZID=America/New_York:20161028T160000
DTEND;TZID=America/New_York:20161028T190000
DTSTAMP:20260425T115519
CREATED:20161004T204503Z
LAST-MODIFIED:20161004T204503Z
UID:16518-1477670400-1477681200@www.redstoneliquors.com
SUMMARY:Bourbon Tasting Stoneham
DESCRIPTION:Swing by and join us for a Bourbon tasting with Bookers\, Bakers and Basil Haden in Stoneham from 4-7.
URL:https://www.redstoneliquors.com/event/bourbon-tasting-stoneham/
END:VEVENT
BEGIN:VEVENT
DTSTART;TZID=America/New_York:20161014T160000
DTEND;TZID=America/New_York:20161014T190000
DTSTAMP:20260425T115519
CREATED:20161004T204250Z
LAST-MODIFIED:20161004T204250Z
UID:16516-1476460800-1476471600@www.redstoneliquors.com
SUMMARY:Grand Ten Distilling Stoneham
DESCRIPTION:Swing by and join Grand Ten Distilling for a Spirits tasting in Stoneham from 4-7.
URL:https://www.redstoneliquors.com/event/grand-ten-distilling-stoneham-2/
END:VEVENT
BEGIN:VEVENT
DTSTART;TZID=America/New_York:20161014T160000
DTEND;TZID=America/New_York:20161014T170000
DTSTAMP:20260425T115519
CREATED:20161004T204143Z
LAST-MODIFIED:20161004T204143Z
UID:16514-1476460800-1476464400@www.redstoneliquors.com
SUMMARY:Flying Squirrel Stoneham
DESCRIPTION:Swing by and join Flying Squirrel brewing for a Beer tasting in Stoneham from 4-7.
URL:https://www.redstoneliquors.com/event/flying-squirrel-stoneham-2/
CATEGORIES:Beer tasting
END:VEVENT
BEGIN:VEVENT
DTSTART;TZID=America/New_York:20161007T160000
DTEND;TZID=America/New_York:20161007T190000
DTSTAMP:20260425T115519
CREATED:20161004T203809Z
LAST-MODIFIED:20161004T203809Z
UID:16512-1475856000-1475866800@www.redstoneliquors.com
SUMMARY:Wine tasting Stoneham
DESCRIPTION:Swing by and PSP imports for a wine tasting in Stoneham from 4-7.
URL:https://www.redstoneliquors.com/event/wine-tasting-stoneham-2/
END:VEVENT
BEGIN:VEVENT
DTSTART;TZID=America/New_York:20161007T160000
DTEND;TZID=America/New_York:20161007T190000
DTSTAMP:20260425T115519
CREATED:20161004T203640Z
LAST-MODIFIED:20161004T203640Z
UID:16510-1475856000-1475866800@www.redstoneliquors.com
SUMMARY:Knee Deep Brewing Stoneham
DESCRIPTION:Swing by and join Knee deep brewing for a Beer tasting in Stoneham from 4-7.
URL:https://www.redstoneliquors.com/event/knee-deep-brewing-stoneham/
CATEGORIES:Beer tasting
END:VEVENT
BEGIN:VEVENT
DTSTART;TZID=America/New_York:20161004T160000
DTEND;TZID=America/New_York:20161004T190000
DTSTAMP:20260425T115519
CREATED:20161104T204746Z
LAST-MODIFIED:20161104T204746Z
UID:16524-1475596800-1475607600@www.redstoneliquors.com
SUMMARY:Revival brewing Stoneham
DESCRIPTION:Swing by and join Revival brewing for a Beer tasting in Stoneham from 4-7.
URL:https://www.redstoneliquors.com/event/revival-brewing-stoneham/
END:VEVENT
BEGIN:VEVENT
DTSTART;TZID=America/New_York:20160930T160000
DTEND;TZID=America/New_York:20160930T190000
DTSTAMP:20260425T115519
CREATED:20160905T164341Z
LAST-MODIFIED:20160905T164341Z
UID:16483-1475251200-1475262000@www.redstoneliquors.com
SUMMARY:Sebago Beer tasting (Stoneham)
DESCRIPTION:Swing by and join Sebago Brewing as they taste you through their lineup of beer  in Stoneham from 4-7pm
URL:https://www.redstoneliquors.com/event/sebago-beer-tasting-stoneham/
END:VEVENT
BEGIN:VEVENT
DTSTART;TZID=America/New_York:20160930T160000
DTEND;TZID=America/New_York:20160930T190000
DTSTAMP:20260425T115519
CREATED:20160905T164052Z
LAST-MODIFIED:20160905T164052Z
UID:16479-1475251200-1475262000@www.redstoneliquors.com
SUMMARY:Wine Tasting (Andover)
DESCRIPTION:Swing by and join us for Wine tasting in Andover from 4-7pm
URL:https://www.redstoneliquors.com/event/wine-tasting-andover/
END:VEVENT
BEGIN:VEVENT
DTSTART;TZID=America/New_York:20160923T160000
DTEND;TZID=America/New_York:20160923T190000
DTSTAMP:20260425T115519
CREATED:20160905T164227Z
LAST-MODIFIED:20160905T164227Z
UID:16481-1474646400-1474657200@www.redstoneliquors.com
SUMMARY:Grand Ten Distilling (Stoneham)
DESCRIPTION:Swing by and join Grand Ten Distilling as they taste you through theirl lineup of worldclass spirits in Stoneham from 4-7pm
URL:https://www.redstoneliquors.com/event/grand-ten-distilling-stoneham/
END:VEVENT
BEGIN:VEVENT
DTSTART;TZID=America/New_York:20160923T160000
DTEND;TZID=America/New_York:20160923T190000
DTSTAMP:20260425T115519
CREATED:20160905T163959Z
LAST-MODIFIED:20160905T163959Z
UID:16477-1474646400-1474657200@www.redstoneliquors.com
SUMMARY:Wine Tasting (Stoneham)
DESCRIPTION:Swing by and join us for Wine tasting in Stoneham from 4-7pm
URL:https://www.redstoneliquors.com/event/wine-tasting-stoneham/
END:VEVENT
BEGIN:VEVENT
DTSTART;TZID=America/New_York:20160916T120000
DTEND;TZID=America/New_York:20160916T150000
DTSTAMP:20260425T115519
CREATED:20160831T182157Z
LAST-MODIFIED:20160831T182157Z
UID:16475-1474027200-1474038000@www.redstoneliquors.com
SUMMARY:Farmer Willie's (Stoneham)
DESCRIPTION:Swing by Stoneham from 4-7 and Join Farmer Willie’s as they taste you through their alcoholic ginger beer.
URL:https://www.redstoneliquors.com/event/farmer-willies-stoneham/
END:VEVENT
BEGIN:VEVENT
DTSTART;TZID=America/New_York:20160914T140000
DTEND;TZID=America/New_York:20160914T150000
DTSTAMP:20260425T115519
CREATED:20160831T180005Z
LAST-MODIFIED:20160831T180005Z
UID:16469-1473861600-1473865200@www.redstoneliquors.com
SUMMARY:Oxbow Brewing Classroom Event
DESCRIPTION:We are Excited to host Tim Adams\, owner of Oxbow Brewing (one of our staff favorite breweries) as he speaks about the history and evolution of Oxbow and where they fit into the world of beers. He will put a focus on their farmhouse ales- how they’re made\, the differences between styles in that category; as well as his personal philosophies about these beers. \n\nAttendees will get a chance to taste some Oxbow beers (Some not regularly avail in MA) and will also go home with a bottle of something special from the brewery. \nCost: $15\, attendees leave with 1 bottle TBD\nDate: Wednesday September 14\, 2016\nTime: 6pm\nLocation: Redstone Liquors Stoneham (classroom)\nThis class will fill up fast and is limited to the first 18 people to sign up. Register by calling the Stoneham location @ 781-438-9265
URL:https://www.redstoneliquors.com/event/oxbow-brewing-classroom-event/
END:VEVENT
BEGIN:VEVENT
DTSTART;TZID=America/New_York:20160909T120000
DTEND;TZID=America/New_York:20160909T150000
DTSTAMP:20260425T115519
CREATED:20160831T180437Z
LAST-MODIFIED:20160831T180437Z
UID:16473-1473422400-1473433200@www.redstoneliquors.com
SUMMARY:Stone Brewing Stoneham
DESCRIPTION:Swing by and join Stone Brewing Company as they sample you on their world class beers.
URL:https://www.redstoneliquors.com/event/stone-brewing-stoneham/
CATEGORIES:Beer tasting
END:VEVENT
BEGIN:VEVENT
DTSTART;TZID=America/New_York:20160902T120000
DTEND;TZID=America/New_York:20160902T150000
DTSTAMP:20260425T115519
CREATED:20160831T180255Z
LAST-MODIFIED:20160831T180255Z
UID:16471-1472817600-1472828400@www.redstoneliquors.com
SUMMARY:Boulevard Brewing (Stoneham)
DESCRIPTION:Swing by and join Boulevard as they taste you through their lineup of world class beers beers.
URL:https://www.redstoneliquors.com/event/boulevard-brewing-stoneham/
END:VEVENT
BEGIN:VEVENT
DTSTART;TZID=America/New_York:20160610T120000
DTEND;TZID=America/New_York:20160610T150000
DTSTAMP:20260425T115519
CREATED:20160531T203010Z
LAST-MODIFIED:20160531T203010Z
UID:15369-1465560000-1465570800@www.redstoneliquors.com
SUMMARY:Flying Squirrel Stoneham
DESCRIPTION:Swing by Stoneham from 4-7pm for a beer tasting with Flying Squirrel Brewing
URL:https://www.redstoneliquors.com/event/flying-squirrel-stoneham/
CATEGORIES:Beer tasting
END:VEVENT
BEGIN:VEVENT
DTSTART;TZID=America/New_York:20160606T140000
DTEND;TZID=America/New_York:20160606T150000
DTSTAMP:20260425T115519
CREATED:20160531T202310Z
LAST-MODIFIED:20160531T202310Z
UID:15367-1465221600-1465225200@www.redstoneliquors.com
SUMMARY:Diplomático Classroom Event (stoneham)
DESCRIPTION:Diplomático Classroom Event w/ Master Blender Gilberto Brinceño \nWe are honored to have Master blender Gilberto Brinceño host a Free private Diplomático Rum tasting event for our Redstone Customers. This event will be held in our Stoneham location classroom and will feature the entire Diplomático Tradition range as well as limited Prestige range which includes the Single Vintage and Ambassador! \nGilberto will walk you through the range as well as shed some light on what his duties as a Master Distiller including and his responsibility to being you the highest quality world class Rum possible. \nSeats are Free but limited to the first 20 people to sign up by calling out Stoneham Location at 781-438-9265. Call soon as we expect this class to fill up. \nAttendees will also receive 10% off of any of the diplomatico rums that they taste that night. \nDate: Monday June 6th\nTime 6:00 – 7:00 PM\nLocation: Redstone Liquors Stoneham \nMore info on Gilberto Below: \nGilberto bio: \nGilberto Brinceño is one of the Master Blenders (Maestro Ronero) of Rum Diplomático. He has spent the last 30 years working in the spirits industry. Gilberto is extremely passionate about his work and enjoys sharing his knowledge with his colleagues. He takes great pride in his work at Diplomático and the ability to explain every step of the process to create an award-winning rum. A native of Barquisimeto\, Venezuela\, Gilberto studied at Universidad Politécnica Antonio Jose de Sucre and graduated as a Chemical Engineer in 1985. Soon after he graduated\, Gilberto began working at Licorerías Unidas S.A. (LUSA)\, now known as Destilerías Unidas S.A (DUSA)\, the parent company for Rum Diplomático. When Gilberto joined LUSA\, Seagram’s International owned the company and it was one of the largest distributors of alcohol in the world. Gilberto held several positions at LUSA\, including Packaging Material Manager where he was responsible for all packaging specifications and new product development. He was then promoted to Quality Assurance & Safety Manager\, taking care of managing the quality labs (chemical\, packaging and sensorial)\, as well as the safety and security systems.\nIn 1997\, Gilberto moved to Montreal to work at the Seagram’s Montreal Technical Center\, as Regional Manager for Quality Assurance. In 2000\, Seagram’s was sold and Gilberto joined Pernod Ricard and transferred to Brazil in 2001 to work as the Quality\, Safety and Environmental Director for all of Pernod Ricard America’s affiliates. Gilberto’s role there was to assure the quality and consistency of all products in the region\, as well as to be a facilitator in sensorial analysis techniques and provide technical support. The role included traveling around the world to visit the operations facilities and provide support and training.\nDuring his time working for Seagram’s and Pernod Ricard\, Gilberto kept a strong link to LUSA\, which became Destilerías Unidas S.A (DUSA) in 2002. DUSA’s management maintained a direct relationship with Gilberto and the companies he represented over the years. ￼\n￼In 2007\, Gilberto moved back to Venezuela and began working for Pernod Ricard Venezuela in Caracas\, as Senior Manager of Quality Assurance. He continued working with DUSA as a planner and quality auditor for the Pernod Ricard products\, as DUSA was a co-packer of Pernod Ricard in Venezuela. In 2014\, Gilberto came full circle and began working as a Quality Assurance Manager at DUSA. Shortly thereafter he was promoted to Master Blender of Rum Diplomático. Gilberto is very proud to hold this position\, which represents a natural evolution in his career.\nIn his free time\, Gilberto enjoys listening to music\, reading and walking in the evenings. He also enjoys traveling around the world to understand other cultures. Gilberto is married with two sons.
URL:https://www.redstoneliquors.com/event/diplomatico-classroom-event-stoneham/
END:VEVENT
BEGIN:VEVENT
DTSTART;TZID=America/New_York:20160603T130000
DTEND;TZID=America/New_York:20160603T150000
DTSTAMP:20260425T115519
CREATED:20160512T182136Z
LAST-MODIFIED:20160512T182136Z
UID:15293-1464958800-1464966000@www.redstoneliquors.com
SUMMARY:Stoneham: Wine Tasting
DESCRIPTION:Swing by and join us for a wine tasting featuring the following wines: \n  \nCloudy bay Pinot Nior \nSmoke tree chardonnay and pinot nior \nNumanthia \nNumanthia Terres \n 
URL:https://www.redstoneliquors.com/event/stoneham-wine-tasting/
END:VEVENT
END:VCALENDAR