BEGIN:VCALENDAR
VERSION:2.0
PRODID:-//Redstone Liquors - ECPv6.15.11//NONSGML v1.0//EN
CALSCALE:GREGORIAN
METHOD:PUBLISH
X-ORIGINAL-URL:https://www.redstoneliquors.com
X-WR-CALDESC:Events for Redstone Liquors
REFRESH-INTERVAL;VALUE=DURATION:PT1H
X-Robots-Tag:noindex
X-PUBLISHED-TTL:PT1H
BEGIN:VTIMEZONE
TZID:America/New_York
BEGIN:DAYLIGHT
TZOFFSETFROM:-0500
TZOFFSETTO:-0400
TZNAME:EDT
DTSTART:20200308T070000
END:DAYLIGHT
BEGIN:STANDARD
TZOFFSETFROM:-0400
TZOFFSETTO:-0500
TZNAME:EST
DTSTART:20201101T060000
END:STANDARD
BEGIN:DAYLIGHT
TZOFFSETFROM:-0500
TZOFFSETTO:-0400
TZNAME:EDT
DTSTART:20210314T070000
END:DAYLIGHT
BEGIN:STANDARD
TZOFFSETFROM:-0400
TZOFFSETTO:-0500
TZNAME:EST
DTSTART:20211107T060000
END:STANDARD
BEGIN:DAYLIGHT
TZOFFSETFROM:-0500
TZOFFSETTO:-0400
TZNAME:EDT
DTSTART:20220313T070000
END:DAYLIGHT
BEGIN:STANDARD
TZOFFSETFROM:-0400
TZOFFSETTO:-0500
TZNAME:EST
DTSTART:20221106T060000
END:STANDARD
END:VTIMEZONE
BEGIN:VEVENT
DTSTART;TZID=America/New_York:20211217T170000
DTEND;TZID=America/New_York:20211217T190000
DTSTAMP:20260423T193134
CREATED:20211001T171612Z
LAST-MODIFIED:20211001T171612Z
UID:19555-1639760400-1639767600@www.redstoneliquors.com
SUMMARY:Drinkworks Sampling Stoneham
DESCRIPTION:
URL:https://www.redstoneliquors.com/event/drinkworks-sampling-stoneham-2/
LOCATION:Redstone Liquors Stoneham\, 115 Main St\, Stoneham\, MA\, 02180\, United States
END:VEVENT
BEGIN:VEVENT
DTSTART;TZID=America/New_York:20211211T160000
DTEND;TZID=America/New_York:20211211T180000
DTSTAMP:20260423T193134
CREATED:20211108T161713Z
LAST-MODIFIED:20211108T161713Z
UID:19599-1639238400-1639245600@www.redstoneliquors.com
SUMMARY:D'usse Cognac (Stoneham)
DESCRIPTION:
URL:https://www.redstoneliquors.com/event/dusse-cognac-stoneham/
LOCATION:Redstone Liquors Stoneham\, 115 Main St\, Stoneham\, MA\, 02180\, United States
END:VEVENT
BEGIN:VEVENT
DTSTART;TZID=America/New_York:20211211T140000
DTEND;TZID=America/New_York:20211211T160000
DTSTAMP:20260423T193134
CREATED:20211108T161626Z
LAST-MODIFIED:20211108T161626Z
UID:19597-1639231200-1639238400@www.redstoneliquors.com
SUMMARY:Bacardi Flavors Coconut / Tropical (Stoneham)
DESCRIPTION:
URL:https://www.redstoneliquors.com/event/bacardi-flavors-coconut-tropical-stoneham/
LOCATION:Redstone Liquors Stoneham\, 115 Main St\, Stoneham\, MA\, 02180\, United States
END:VEVENT
BEGIN:VEVENT
DTSTART;TZID=America/New_York:20211211T120000
DTEND;TZID=America/New_York:20211211T140000
DTSTAMP:20260423T193134
CREATED:20211108T161536Z
LAST-MODIFIED:20211108T161547Z
UID:19595-1639224000-1639231200@www.redstoneliquors.com
SUMMARY:Grey Goose Essence (Stoneham)
DESCRIPTION:
URL:https://www.redstoneliquors.com/event/grey-goose-essence-stoneham/
LOCATION:Redstone Liquors Stoneham\, 115 Main St\, Stoneham\, MA\, 02180\, United States
END:VEVENT
BEGIN:VEVENT
DTSTART;TZID=America/New_York:20211210T160000
DTEND;TZID=America/New_York:20211210T190000
DTSTAMP:20260423T193134
CREATED:20211004T194240Z
LAST-MODIFIED:20211004T194240Z
UID:19557-1639152000-1639162800@www.redstoneliquors.com
SUMMARY:Bells Brewing - Stoneham
DESCRIPTION:
URL:https://www.redstoneliquors.com/event/bells-brewing-stoneham/
LOCATION:Redstone Liquors Stoneham\, 115 Main St\, Stoneham\, MA\, 02180\, United States
END:VEVENT
BEGIN:VEVENT
DTSTART;TZID=America/New_York:20211204T160000
DTEND;TZID=America/New_York:20211204T180000
DTSTAMP:20260423T193134
CREATED:20211112T143342Z
LAST-MODIFIED:20211112T143342Z
UID:19603-1638633600-1638640800@www.redstoneliquors.com
SUMMARY:3 floyds tasting Stoneham
DESCRIPTION:
URL:https://www.redstoneliquors.com/event/3-floyds-tasting-stoneham/
LOCATION:Redstone Liquors Stoneham\, 115 Main St\, Stoneham\, MA\, 02180\, United States
END:VEVENT
BEGIN:VEVENT
DTSTART;TZID=America/New_York:20211203T160000
DTEND;TZID=America/New_York:20211203T190000
DTSTAMP:20260423T193134
CREATED:20211108T162620Z
LAST-MODIFIED:20211108T162620Z
UID:19601-1638547200-1638558000@www.redstoneliquors.com
SUMMARY:Maison Marcel wines (Stoneham)
DESCRIPTION:
URL:https://www.redstoneliquors.com/event/maison-marcel-wines-stoneham-3/
LOCATION:Redstone Liquors Stoneham\, 115 Main St\, Stoneham\, MA\, 02180\, United States
END:VEVENT
BEGIN:VEVENT
DTSTART;TZID=America/New_York:20211203T160000
DTEND;TZID=America/New_York:20211203T190000
DTSTAMP:20260423T193134
CREATED:20211008T145450Z
LAST-MODIFIED:20211008T145450Z
UID:19560-1638547200-1638558000@www.redstoneliquors.com
SUMMARY:Masion Marcel wines Stoneham
DESCRIPTION:
URL:https://www.redstoneliquors.com/event/masion-marcel-wines-stoneham/
LOCATION:Redstone Liquors Stoneham\, 115 Main St\, Stoneham\, MA\, 02180\, United States
END:VEVENT
BEGIN:VEVENT
DTSTART;TZID=America/New_York:20211127T160000
DTEND;TZID=America/New_York:20211127T180000
DTSTAMP:20260423T193134
CREATED:20211108T161447Z
LAST-MODIFIED:20211108T161447Z
UID:19593-1638028800-1638036000@www.redstoneliquors.com
SUMMARY:Dewar's 12/15 ( label event)  (Stoneham)
DESCRIPTION:
URL:https://www.redstoneliquors.com/event/dewars-12-15-label-event-stoneham-2/
LOCATION:Redstone Liquors Stoneham\, 115 Main St\, Stoneham\, MA\, 02180\, United States
END:VEVENT
BEGIN:VEVENT
DTSTART;TZID=America/New_York:20211127T140000
DTEND;TZID=America/New_York:20211127T160000
DTSTAMP:20260423T193134
CREATED:20211108T161401Z
LAST-MODIFIED:20211108T161410Z
UID:19590-1638021600-1638028800@www.redstoneliquors.com
SUMMARY:St Germain Spritzer Holiday (stoneham)
DESCRIPTION:
URL:https://www.redstoneliquors.com/event/st-germain-spritzer-holiday/
LOCATION:Redstone Liquors Stoneham\, 115 Main St\, Stoneham\, MA\, 02180\, United States
END:VEVENT
BEGIN:VEVENT
DTSTART;TZID=America/New_York:20211127T120000
DTEND;TZID=America/New_York:20211127T140000
DTSTAMP:20260423T193134
CREATED:20211108T161321Z
LAST-MODIFIED:20211108T161321Z
UID:19588-1638014400-1638021600@www.redstoneliquors.com
SUMMARY:Cazadores RTD
DESCRIPTION:
URL:https://www.redstoneliquors.com/event/cazadores-rtd/
LOCATION:Redstone Liquors Stoneham\, 115 Main St\, Stoneham\, MA\, 02180\, United States
END:VEVENT
BEGIN:VEVENT
DTSTART;TZID=America/New_York:20211126T120000
DTEND;TZID=America/New_York:20211126T140000
DTSTAMP:20260423T193134
CREATED:20211001T171529Z
LAST-MODIFIED:20211001T171529Z
UID:19553-1637928000-1637935200@www.redstoneliquors.com
SUMMARY:Drinkworks Sampling Stoneham
DESCRIPTION:
URL:https://www.redstoneliquors.com/event/drinkworks-sampling-stoneham/
LOCATION:Redstone Liquors Stoneham\, 115 Main St\, Stoneham\, MA\, 02180\, United States
END:VEVENT
BEGIN:VEVENT
DTSTART;TZID=America/New_York:20211113T160000
DTEND;TZID=America/New_York:20211113T180000
DTSTAMP:20260423T193134
CREATED:20211108T161236Z
LAST-MODIFIED:20211108T161236Z
UID:19586-1636819200-1636826400@www.redstoneliquors.com
SUMMARY:Dewar's 12/15 ( label event) (stoneham)
DESCRIPTION:
URL:https://www.redstoneliquors.com/event/dewars-12-15-label-event-stoneham/
LOCATION:Redstone Liquors Stoneham\, 115 Main St\, Stoneham\, MA\, 02180\, United States
END:VEVENT
BEGIN:VEVENT
DTSTART;TZID=America/New_York:20211113T140000
DTEND;TZID=America/New_York:20211113T160000
DTSTAMP:20260423T193134
CREATED:20211108T161151Z
LAST-MODIFIED:20211108T161151Z
UID:19584-1636812000-1636819200@www.redstoneliquors.com
SUMMARY:St Germain Spritzer Holiday (Stoneham)
DESCRIPTION:
URL:https://www.redstoneliquors.com/event/st-germain-spritzer-holiday-stoneham/
LOCATION:Redstone Liquors Stoneham\, 115 Main St\, Stoneham\, MA\, 02180\, United States
END:VEVENT
BEGIN:VEVENT
DTSTART;TZID=America/New_York:20211113T120000
DTEND;TZID=America/New_York:20211113T140000
DTSTAMP:20260423T193134
CREATED:20211108T161111Z
LAST-MODIFIED:20211108T161111Z
UID:19582-1636804800-1636812000@www.redstoneliquors.com
SUMMARY:Bacardi RTD Cans (stoneham)
DESCRIPTION:
URL:https://www.redstoneliquors.com/event/bacardi-rtd-cans-stoneham/
LOCATION:Redstone Liquors Stoneham\, 115 Main St\, Stoneham\, MA\, 02180\, United States
END:VEVENT
BEGIN:VEVENT
DTSTART;TZID=America/New_York:20211030T160000
DTEND;TZID=America/New_York:20211030T180000
DTSTAMP:20260423T193134
CREATED:20211013T172046Z
LAST-MODIFIED:20211013T172046Z
UID:19568-1635609600-1635616800@www.redstoneliquors.com
SUMMARY:Macallan Sampling Stoneham
DESCRIPTION:
URL:https://www.redstoneliquors.com/event/macallan-sampling-stoneham/
LOCATION:Redstone Liquors Stoneham\, 115 Main St\, Stoneham\, MA\, 02180\, United States
END:VEVENT
BEGIN:VEVENT
DTSTART;TZID=America/New_York:20211029T160000
DTEND;TZID=America/New_York:20211029T200000
DTSTAMP:20260423T193134
CREATED:20211020T192124Z
LAST-MODIFIED:20211020T192124Z
UID:19579-1635523200-1635537600@www.redstoneliquors.com
SUMMARY:Maison Marcel wines Stoneham
DESCRIPTION:
URL:https://www.redstoneliquors.com/event/maison-marcel-wines-stoneham-2/
LOCATION:MA
END:VEVENT
BEGIN:VEVENT
DTSTART;TZID=America/New_York:20211023T043000
DTEND;TZID=America/New_York:20211023T183000
DTSTAMP:20260423T193134
CREATED:20211020T150720Z
LAST-MODIFIED:20211020T150720Z
UID:19576-1634963400-1635013800@www.redstoneliquors.com
SUMMARY:Maine Craft cocktails Stoneham
DESCRIPTION:
URL:https://www.redstoneliquors.com/event/maine-craft-cocktails-stoneham/
LOCATION:Redstone Liquors Stoneham\, 115 Main St\, Stoneham\, MA\, 02180\, United States
END:VEVENT
BEGIN:VEVENT
DTSTART;TZID=America/New_York:20211008T163000
DTEND;TZID=America/New_York:20211008T183000
DTSTAMP:20260423T193134
CREATED:20210816T173723Z
LAST-MODIFIED:20210917T204507Z
UID:19521-1633710600-1633717800@www.redstoneliquors.com
SUMMARY:Martell Blue Swift
DESCRIPTION:
URL:https://www.redstoneliquors.com/event/martell-blue-swift/
LOCATION:Redstone Liquors Stoneham\, 115 Main St\, Stoneham\, MA\, 02180\, United States
END:VEVENT
BEGIN:VEVENT
DTSTART;TZID=America/New_York:20211002T130000
DTEND;TZID=America/New_York:20211002T150000
DTSTAMP:20260423T193134
CREATED:20210816T173257Z
LAST-MODIFIED:20210908T162621Z
UID:19517-1633179600-1633186800@www.redstoneliquors.com
SUMMARY:Malibu Watermelon
DESCRIPTION:Sip on a slice of summer with Malibu’s newest flavor\, Malibu Watermelon! The sunniest spirit for impromptu outdoor hangs and perfect partner for flavorful cocktails\, Malibu Watermelon packs a fruity burst of watermelon flavor with notes of smooth\, tropical Caribbean Rum. 21% ABV
URL:https://www.redstoneliquors.com/event/malibu-watermelon/
LOCATION:Redstone Liquors Stoneham\, 115 Main St\, Stoneham\, MA\, 02180\, United States
END:VEVENT
BEGIN:VEVENT
DTSTART;TZID=America/New_York:20211001T163000
DTEND;TZID=America/New_York:20211001T183000
DTSTAMP:20260423T193134
CREATED:20210816T173930Z
LAST-MODIFIED:20210908T163136Z
UID:19523-1633105800-1633113000@www.redstoneliquors.com
SUMMARY:Rabbit Hole whiskey
DESCRIPTION:
URL:https://www.redstoneliquors.com/event/rabbit-hole-whiskey/
LOCATION:Redstone Liquors Stoneham\, 115 Main St\, Stoneham\, MA\, 02180\, United States
END:VEVENT
BEGIN:VEVENT
DTSTART;TZID=America/New_York:20210924T163000
DTEND;TZID=America/New_York:20210924T183000
DTSTAMP:20260423T193134
CREATED:20210816T173550Z
LAST-MODIFIED:20210908T162532Z
UID:19519-1632501000-1632508200@www.redstoneliquors.com
SUMMARY:Malibu Watermelon
DESCRIPTION:Sip on a slice of summer with Malibu’s newest flavor\, Malibu Watermelon! The sunniest spirit for impromptu outdoor hangs and perfect partner for flavorful cocktails\, Malibu Watermelon packs a fruity burst of watermelon flavor with notes of smooth\, tropical Caribbean Rum. 21% ABV
URL:https://www.redstoneliquors.com/event/malibu-watermelon-2/
LOCATION:Redstone Liquors Stoneham\, 115 Main St\, Stoneham\, MA\, 02180\, United States
END:VEVENT
BEGIN:VEVENT
DTSTART;TZID=America/New_York:20210924T160000
DTEND;TZID=America/New_York:20210924T190000
DTSTAMP:20260423T193134
CREATED:20210824T174842Z
LAST-MODIFIED:20210824T174842Z
UID:19526-1632499200-1632510000@www.redstoneliquors.com
SUMMARY:Maison Marcel wines Stoneham
DESCRIPTION:
URL:https://www.redstoneliquors.com/event/maison-marcel-wines-stoneham/
LOCATION:Redstone Liquors Stoneham\, 115 Main St\, Stoneham\, MA\, 02180\, United States
END:VEVENT
BEGIN:VEVENT
DTSTART;TZID=America/New_York:20210917T160000
DTEND;TZID=America/New_York:20210917T180000
DTSTAMP:20260423T193134
CREATED:20210906T164513Z
LAST-MODIFIED:20210917T204414Z
UID:19529-1631894400-1631901600@www.redstoneliquors.com
SUMMARY:toppling goliath (Stoneham)
DESCRIPTION:
URL:https://www.redstoneliquors.com/event/toppling-goliath-stoneham/
LOCATION:Redstone Liquors Stoneham\, 115 Main St\, Stoneham\, MA\, 02180\, United States
END:VEVENT
BEGIN:VEVENT
DTSTART;TZID=America/New_York:20210911T150000
DTEND;TZID=America/New_York:20210911T180000
DTSTAMP:20260423T193134
CREATED:20210809T171521Z
LAST-MODIFIED:20210813T202728Z
UID:19445-1631372400-1631383200@www.redstoneliquors.com
SUMMARY:Blackened Whiskey Truck will be in Stoneham
DESCRIPTION:Swing by taste some blackened whiskey in stoneham and get some pictures with the blackened whiskey truck!
URL:https://www.redstoneliquors.com/event/blackened-whiskey-truck-will-be-in-stoneham/
LOCATION:Redstone Liquors Stoneham\, 115 Main St\, Stoneham\, MA\, 02180\, United States
END:VEVENT
BEGIN:VEVENT
DTSTART;TZID=America/New_York:20210827T160000
DTEND;TZID=America/New_York:20210827T190000
DTSTAMP:20260423T193134
CREATED:20210728T184409Z
LAST-MODIFIED:20210728T184409Z
UID:19409-1630080000-1630090800@www.redstoneliquors.com
SUMMARY:Idle Hands Brocktoberfest sampling (Stoneham)
DESCRIPTION:
URL:https://www.redstoneliquors.com/event/idle-hands-brocktoberfest-sampling-stoneham/
LOCATION:Redstone Liquors Stoneham\, 115 Main St\, Stoneham\, MA\, 02180\, United States
END:VEVENT
BEGIN:VEVENT
DTSTART;TZID=America/New_York:20210807T143000
DTEND;TZID=America/New_York:20210807T170000
DTSTAMP:20260423T193134
CREATED:20210609T170525Z
LAST-MODIFIED:20210609T170525Z
UID:19320-1628346600-1628355600@www.redstoneliquors.com
SUMMARY:D'usse Tasting (Stoneham)
DESCRIPTION:
URL:https://www.redstoneliquors.com/event/dusse-tasting-stoneham/
LOCATION:Redstone Liquors Stoneham\, 115 Main St\, Stoneham\, MA\, 02180\, United States
END:VEVENT
BEGIN:VEVENT
DTSTART;TZID=America/New_York:20210807T120000
DTEND;TZID=America/New_York:20210807T143000
DTSTAMP:20260423T193134
CREATED:20210609T170446Z
LAST-MODIFIED:20210609T170446Z
UID:19318-1628337600-1628346600@www.redstoneliquors.com
SUMMARY:Dewar's tasting
DESCRIPTION:
URL:https://www.redstoneliquors.com/event/dewars-tasting/
LOCATION:Redstone Liquors Stoneham\, 115 Main St\, Stoneham\, MA\, 02180\, United States
END:VEVENT
BEGIN:VEVENT
DTSTART;TZID=America/New_York:20210731T143000
DTEND;TZID=America/New_York:20210731T170000
DTSTAMP:20260423T193134
CREATED:20210609T170335Z
LAST-MODIFIED:20210609T170335Z
UID:19316-1627741800-1627750800@www.redstoneliquors.com
SUMMARY:St. Germain sampling (stoneham)
DESCRIPTION:
URL:https://www.redstoneliquors.com/event/st-germain-sampling-stoneham/
LOCATION:Redstone Liquors Stoneham\, 115 Main St\, Stoneham\, MA\, 02180\, United States
END:VEVENT
BEGIN:VEVENT
DTSTART;TZID=America/New_York:20210731T120000
DTEND;TZID=America/New_York:20210731T143000
DTSTAMP:20260423T193134
CREATED:20210609T170109Z
LAST-MODIFIED:20210609T170226Z
UID:19314-1627732800-1627741800@www.redstoneliquors.com
SUMMARY:Bacardi Ready to drink cocktails (Stoneham)
DESCRIPTION:
URL:https://www.redstoneliquors.com/event/bacardi-ready-to-drink-cocktails-stoneham/
LOCATION:Redstone Liquors Stoneham\, 115 Main St\, Stoneham\, MA\, 02180\, United States
END:VEVENT
END:VCALENDAR