BEGIN:VCALENDAR
VERSION:2.0
PRODID:-//Redstone Liquors - ECPv6.15.11//NONSGML v1.0//EN
CALSCALE:GREGORIAN
METHOD:PUBLISH
X-WR-CALNAME:Redstone Liquors
X-ORIGINAL-URL:https://www.redstoneliquors.com
X-WR-CALDESC:Events for Redstone Liquors
REFRESH-INTERVAL;VALUE=DURATION:PT1H
X-Robots-Tag:noindex
X-PUBLISHED-TTL:PT1H
BEGIN:VTIMEZONE
TZID:America/New_York
BEGIN:DAYLIGHT
TZOFFSETFROM:-0500
TZOFFSETTO:-0400
TZNAME:EDT
DTSTART:20140309T070000
END:DAYLIGHT
BEGIN:STANDARD
TZOFFSETFROM:-0400
TZOFFSETTO:-0500
TZNAME:EST
DTSTART:20141102T060000
END:STANDARD
BEGIN:DAYLIGHT
TZOFFSETFROM:-0500
TZOFFSETTO:-0400
TZNAME:EDT
DTSTART:20150308T070000
END:DAYLIGHT
BEGIN:STANDARD
TZOFFSETFROM:-0400
TZOFFSETTO:-0500
TZNAME:EST
DTSTART:20151101T060000
END:STANDARD
BEGIN:DAYLIGHT
TZOFFSETFROM:-0500
TZOFFSETTO:-0400
TZNAME:EDT
DTSTART:20160313T070000
END:DAYLIGHT
BEGIN:STANDARD
TZOFFSETFROM:-0400
TZOFFSETTO:-0500
TZNAME:EST
DTSTART:20161106T060000
END:STANDARD
BEGIN:DAYLIGHT
TZOFFSETFROM:-0500
TZOFFSETTO:-0400
TZNAME:EDT
DTSTART:20170312T070000
END:DAYLIGHT
BEGIN:STANDARD
TZOFFSETFROM:-0400
TZOFFSETTO:-0500
TZNAME:EST
DTSTART:20171105T060000
END:STANDARD
END:VTIMEZONE
BEGIN:VEVENT
DTSTART;TZID=America/New_York:20160422T120000
DTEND;TZID=America/New_York:20160422T150000
DTSTAMP:20260425T124610
CREATED:20160223T024728Z
LAST-MODIFIED:20160223T024728Z
UID:14689-1461326400-1461337200@www.redstoneliquors.com
SUMMARY:Stoneham: Coronado brewing tasting
DESCRIPTION:Swing by the stoneham location from 4-7pm and join us for a beer tasting with the folks from Coronado Brewing from CA.
URL:https://www.redstoneliquors.com/event/stoneham-coronado-brewing-tasting-2/
END:VEVENT
BEGIN:VEVENT
DTSTART;TZID=America/New_York:20160422T000000
DTEND;TZID=America/New_York:20160422T150000
DTSTAMP:20260425T124610
CREATED:20160223T024032Z
LAST-MODIFIED:20160223T024032Z
UID:14688-1461283200-1461337200@www.redstoneliquors.com
SUMMARY:Stoneham: Down the road brewing tasting
DESCRIPTION:Swing by the stoneham location from 4-7pm and join us for a beer tasting with the folks from Down the road brewing.
URL:https://www.redstoneliquors.com/event/stoneham-down-the-road-brewing-tasting/
CATEGORIES:Beer tasting
END:VEVENT
BEGIN:VEVENT
DTSTART;TZID=America/New_York:20160415T000000
DTEND;TZID=America/New_York:20160415T150000
DTSTAMP:20260425T124610
CREATED:20160223T023653Z
LAST-MODIFIED:20160223T023653Z
UID:14687-1460678400-1460732400@www.redstoneliquors.com
SUMMARY:Stoneham: Copper and Kings brandy tasting
DESCRIPTION:Swing by the stoneham location from 4-7pm and join us for a brandy tasting with the folks from Copper and Kings distilling in KY.
URL:https://www.redstoneliquors.com/event/stoneham-copper-and-kings-brandy-tasting/
CATEGORIES:Beer tasting
END:VEVENT
BEGIN:VEVENT
DTSTART;TZID=America/New_York:20160401T120000
DTEND;TZID=America/New_York:20160401T150000
DTSTAMP:20260425T124610
CREATED:20160218T004051Z
LAST-MODIFIED:20160218T004051Z
UID:14653-1459512000-1459522800@www.redstoneliquors.com
SUMMARY:Stoneham: Six Point Tasting
DESCRIPTION:Swing by our Stoneham location from 4-7 pm to sample beers from Sixpoint brewing lineup.
URL:https://www.redstoneliquors.com/event/stoneham-six-point-tasting/
END:VEVENT
BEGIN:VEVENT
DTSTART;TZID=America/New_York:20160325T120000
DTEND;TZID=America/New_York:20160325T150000
DTSTAMP:20260425T124610
CREATED:20160218T003852Z
LAST-MODIFIED:20160218T003852Z
UID:14652-1458907200-1458918000@www.redstoneliquors.com
SUMMARY:Stoneham: Cape Ann Brewing tasting
DESCRIPTION:Swing by our Stoneham location from 4-7 pm to sample beers from Cape Ann brewing lineup.
URL:https://www.redstoneliquors.com/event/stoneham-cape-ann-brewing-tasting/
CATEGORIES:Beer tasting
END:VEVENT
BEGIN:VEVENT
DTSTART;TZID=America/New_York:20160324T020000
DTEND;TZID=America/New_York:20160324T150000
DTSTAMP:20260425T124610
CREATED:20160218T004911Z
LAST-MODIFIED:20160218T004911Z
UID:14654-1458784800-1458831600@www.redstoneliquors.com
SUMMARY:Redstone University: Grand Ten Distilling
DESCRIPTION:This private tasting is limited to the first 15 people to sign up. Join local distillary Grand Ten as they taste you through a variety of their spirits as well as give background on processes as well as new ways to mix these to make some unique cocktails They will also give insight to all that goes into making these unique and tasty spirits. \n 
URL:https://www.redstoneliquors.com/event/redstone-university-grand-ten-distilling/
END:VEVENT
BEGIN:VEVENT
DTSTART;TZID=America/New_York:20160318T120000
DTEND;TZID=America/New_York:20160318T150000
DTSTAMP:20260425T124610
CREATED:20160122T224156Z
LAST-MODIFIED:20160122T224156Z
UID:14499-1458302400-1458313200@www.redstoneliquors.com
SUMMARY:Stoneham: Flying Dreams Brewing
DESCRIPTION:Swing by Stoneham and taste one of MA new breweries Flying Dreams and taste through their lineup of new beers.
URL:https://www.redstoneliquors.com/event/stoneham-flying-dreams-brewing/
END:VEVENT
BEGIN:VEVENT
DTSTART;TZID=America/New_York:20160311T120000
DTEND;TZID=America/New_York:20160311T140000
DTSTAMP:20260425T124610
CREATED:20160122T223914Z
LAST-MODIFIED:20160122T223914Z
UID:14498-1457697600-1457704800@www.redstoneliquors.com
SUMMARY:Stoneham: Captain Lawrence Tasting
DESCRIPTION:Swing by Stoneham and join Captain Lawrence as they sample through their lineup of beers.
URL:https://www.redstoneliquors.com/event/stoneham-captain-lawrence-tasting/
CATEGORIES:Beer tasting
END:VEVENT
BEGIN:VEVENT
DTSTART;TZID=America/New_York:20160311T110000
DTEND;TZID=America/New_York:20160311T140000
DTSTAMP:20260425T124610
CREATED:20160108T225409Z
LAST-MODIFIED:20160108T225409Z
UID:14447-1457694000-1457704800@www.redstoneliquors.com
SUMMARY:Andover: Ommegang Beer tasting
DESCRIPTION:Swing by  from 4-7 and join Ommegang in our Andover store as they sample their world class beer.
URL:https://www.redstoneliquors.com/event/andover-ommegang-beer-tasting/
CATEGORIES:Beer tasting
END:VEVENT
BEGIN:VEVENT
DTSTART;TZID=America/New_York:20160304T110000
DTEND;TZID=America/New_York:20160304T140000
DTSTAMP:20260425T124610
CREATED:20160108T225034Z
LAST-MODIFIED:20160108T225034Z
UID:14446-1457089200-1457100000@www.redstoneliquors.com
SUMMARY:Stoneham: Ommegang Beer tasting
DESCRIPTION:Swing by  from 4-7 and join Ommegang in our Stoneham store as they sample their world class beer.
URL:https://www.redstoneliquors.com/event/stoneham-ommegang-beer-tasting/
END:VEVENT
BEGIN:VEVENT
DTSTART;TZID=America/New_York:20160226T110000
DTEND;TZID=America/New_York:20160226T140000
DTSTAMP:20260425T124610
CREATED:20160108T222815Z
LAST-MODIFIED:20160108T222815Z
UID:14444-1456484400-1456495200@www.redstoneliquors.com
SUMMARY:Stoneham: Brewmaster Jack Tasting
DESCRIPTION:Swing by  from 4-7 and join Brewmaster Jack in our Stoneham Store as they sample their world class beer.
URL:https://www.redstoneliquors.com/event/stoneham-brewmaster-jack-tasting/
END:VEVENT
BEGIN:VEVENT
DTSTART;TZID=America/New_York:20160225T130000
DTEND;TZID=America/New_York:20160225T140000
DTSTAMP:20260425T124610
CREATED:20160218T050919Z
LAST-MODIFIED:20160218T050919Z
UID:14661-1456405200-1456408800@www.redstoneliquors.com
SUMMARY:Redstone Experience: Help us pick our next Redstone Exclusive Bourbon!
DESCRIPTION:Join us for a truly fun private experience when Cleveland whiskey comes to town next Thursday February 25th from 6-7pm. You will not only get to taste through the entire “Uncommon barrel” collection (see below)but you will get to help us pick our next Redstone Exclusive bourbon! We have never before been able to offer this to our whiskey loving customers. \nMore on the Redstone Exclusive selection: Cleveland is allowing us to blend some of the whiskey that you will be tasting as well as proof it to our liking. We will be concocting 2 different formulations of which the class will be be able to blind taste and vote for to be the next Redstone Exclusive bourbon. \nFor those unfamiliar with Cleveland’s Uncommon barrel collection here is a brief overview: This series takes different woods that are usually not typically used to age whiskeys because of their natural pour structure and infuses them using their propriety process to get a truly unique whiskey with flavor profiles that could never before be achieved. \nThose woods include: \nSugar Maple\nApple wood\nBlack Cherry wood\nHoney Locust\nHickory \nDate: February 25th \nTime 6-7pm \nPrice: Pre-Order of a bottle of our barrel selection that you will help pick for $40 (Regular price when these arrive will be $44.99) \nAvailability: Limited to first 15 people to sign up.
URL:https://www.redstoneliquors.com/event/redstone-experience-help-us-pick-our-next-redstone-exclusive-bourbon/
END:VEVENT
BEGIN:VEVENT
DTSTART;TZID=America/New_York:20160224T133000
DTEND;TZID=America/New_York:20160224T150000
DTSTAMP:20260425T124610
CREATED:20160218T051505Z
LAST-MODIFIED:20160218T051505Z
UID:14663-1456320600-1456326000@www.redstoneliquors.com
SUMMARY:Redstone Experience: "Red Obsession" Masterclass
DESCRIPTION:Redstone University: “Red Obsession” Masterclass\nWe are happy to offer our customers a chance to sit in on a private wine tasting with Moet Hennessy Estates & Wines Brand Ambassador Tamara Lee.\nDate & Time: Wednesday\, February 24 | 6:30p-8:00pm\nDetails: Our guests are greeted with a blind tasting on special bottle and have a fun quiz on the wine – winner takes home a bottle! Guests are then guided through a sit-down tasting of the below wines:\nCloudy Bay Pinot Noir ($44.99)\nNewton Unfiltered Merlot ($54.99)\nNewton Unfiltered Cabernet Sauvignon ($54.99)\nTerrazas Single Vineyard Malbec ($49.99)\nTermes ($29.99)\nNumanthia ($59.99)\nCost: Tickets for this event are $15/per person (That $15 will be given back to you toward purchase of any of the wines sampled that night) {an additional 15% off discount will be applied on the wines tasted that night only}\nAvailability: Seats are limited to the first 15 people to sign up.\nReservations: Seats can be reserved by calling our Stoneham location 781-438-9265
URL:https://www.redstoneliquors.com/event/redstone-experience-red-obsession-masterclass/
END:VEVENT
BEGIN:VEVENT
DTSTART;TZID=America/New_York:20160219T110000
DTEND;TZID=America/New_York:20160219T140000
DTSTAMP:20260425T124610
CREATED:20160108T223115Z
LAST-MODIFIED:20160108T223115Z
UID:14445-1455879600-1455890400@www.redstoneliquors.com
SUMMARY:Stoneham: Anchor spirits tasting
DESCRIPTION:Swing by and join Anchor spirits for a tasting\, sample cocktails as well as straight spirits from their expansive lineup.
URL:https://www.redstoneliquors.com/event/stoneham-anchor-spirits-tasting/
END:VEVENT
BEGIN:VEVENT
DTSTART;TZID=America/New_York:20160219T110000
DTEND;TZID=America/New_York:20160219T140000
DTSTAMP:20260425T124610
CREATED:20160108T222452Z
LAST-MODIFIED:20160108T222452Z
UID:14443-1455879600-1455890400@www.redstoneliquors.com
SUMMARY:Andover: Brewmaster jack Tasting
DESCRIPTION:Swing by  from 4-7 and join Brewmaster Jack in our Andover Store as they sample their world class beer.
URL:https://www.redstoneliquors.com/event/andover-brewmaster-jack-tasting/
END:VEVENT
BEGIN:VEVENT
DTSTART;TZID=America/New_York:20160212T110000
DTEND;TZID=America/New_York:20160212T140000
DTSTAMP:20260425T124610
CREATED:20160108T222241Z
LAST-MODIFIED:20160108T222241Z
UID:14442-1455274800-1455285600@www.redstoneliquors.com
SUMMARY:Stoneham: Coronado Brewing Tasting
DESCRIPTION:Swing by  from 4-7 and join Coronado Brewing in our Stoneham Store as they sample their world class beer.
URL:https://www.redstoneliquors.com/event/stoneham-coronado-brewing-tasting/
CATEGORIES:Beer tasting
END:VEVENT
BEGIN:VEVENT
DTSTART;TZID=America/New_York:20160204T230000
DTEND;TZID=America/New_York:20160205T140000
DTSTAMP:20260425T124610
CREATED:20160108T222018Z
LAST-MODIFIED:20160108T222018Z
UID:14441-1454626800-1454680800@www.redstoneliquors.com
SUMMARY:Andover: Notch Brewing Tasting
DESCRIPTION:Swing by our Andover store from 4-7 and join Natch brewing as they sample their lineup of beers.
URL:https://www.redstoneliquors.com/event/andover-notch-brewing-tasting/
END:VEVENT
BEGIN:VEVENT
DTSTART;TZID=America/New_York:20160129T000000
DTEND;TZID=America/New_York:20160129T130000
DTSTAMP:20260425T124610
CREATED:20160108T221515Z
LAST-MODIFIED:20160108T221515Z
UID:14440-1454025600-1454072400@www.redstoneliquors.com
SUMMARY:Stoneham: Aberlour Scotch Tasting (public)
DESCRIPTION:Swing by  from 5-6 and join Aberlour in our Stoneham Store as they sample their world class scotch.
URL:https://www.redstoneliquors.com/event/stoneham-aberlour-scotch-tasting-public/
END:VEVENT
BEGIN:VEVENT
DTSTART;TZID=America/New_York:20160122T110000
DTEND;TZID=America/New_York:20160122T140000
DTSTAMP:20260425T124610
CREATED:20160108T220358Z
LAST-MODIFIED:20160108T220358Z
UID:14439-1453460400-1453471200@www.redstoneliquors.com
SUMMARY:Stoneham: Notch Brewing Tasting
DESCRIPTION:Swing by and join Notch Brewing for a #beertasting from 4-7 in our Stoneham Location
URL:https://www.redstoneliquors.com/event/stoneham-notch-brewing-tasting/
CATEGORIES:Beer tasting
END:VEVENT
BEGIN:VEVENT
DTSTART;TZID=America/New_York:20151016T120000
DTEND;TZID=America/New_York:20151016T150000
DTSTAMP:20260425T124610
CREATED:20150918T214344Z
LAST-MODIFIED:20150918T214344Z
UID:13966-1444996800-1445007600@www.redstoneliquors.com
SUMMARY:Andover: Wine Tasting
DESCRIPTION:Swing by Andover from 4-7pm for a Wine tasting. Wines to be poured will be anounced closer to event. \n  \nCheers!
URL:https://www.redstoneliquors.com/event/andover-wine-tasting/
END:VEVENT
BEGIN:VEVENT
DTSTART;TZID=America/New_York:20151002T120000
DTEND;TZID=America/New_York:20151002T150000
DTSTAMP:20260425T124610
CREATED:20150918T214139Z
LAST-MODIFIED:20150918T214139Z
UID:13965-1443787200-1443798000@www.redstoneliquors.com
SUMMARY:Stoneham: Troegs Brewing tasting
DESCRIPTION:Swing by Stoneham for a Beer tasting with Troegs Brewing. Sample their entire lineup of beers.
URL:https://www.redstoneliquors.com/event/stoneham-troegs-brewing-tasting/
CATEGORIES:Beer tasting
END:VEVENT
BEGIN:VEVENT
DTSTART;TZID=America/New_York:20150918T120000
DTEND;TZID=America/New_York:20150918T143000
DTSTAMP:20260425T124610
CREATED:20150918T213849Z
LAST-MODIFIED:20150918T213849Z
UID:13964-1442577600-1442586600@www.redstoneliquors.com
SUMMARY:Andover: Mill River Winery Tasting
DESCRIPTION:Swing by from 4-6:30 and meet with brad from Local Winery\, Mill River and sample their lineup of wines.
URL:https://www.redstoneliquors.com/event/andover-mill-river-winery-tasting/
END:VEVENT
BEGIN:VEVENT
DTSTART;TZID=America/New_York:20150814T170000
DTEND;TZID=America/New_York:20150814T190000
DTSTAMP:20260425T124610
CREATED:20150609T202033Z
LAST-MODIFIED:20150609T202033Z
UID:12879-1439571600-1439578800@www.redstoneliquors.com
SUMMARY:Stoneham: Coronado Brewing
DESCRIPTION:Swing by from 5-7 for a Beer Tasting with the folks from Coronado Brewing. Try their lineups of beers including island IPA\, Orange ave Wit\, Mermaid red and Idiot IPA along with their seasonal 22oz offering.
URL:https://www.redstoneliquors.com/event/stoneham-coronado-brewing/
CATEGORIES:Beer tasting
END:VEVENT
BEGIN:VEVENT
DTSTART;TZID=America/New_York:20150814T160000
DTEND;TZID=America/New_York:20150814T190000
DTSTAMP:20260425T124610
CREATED:20150609T202252Z
LAST-MODIFIED:20150609T202252Z
UID:12880-1439568000-1439578800@www.redstoneliquors.com
SUMMARY:Andover: Berkshire Brewing
DESCRIPTION:Swing by and join us from 4-7 pm for a beer tasting with Berkshire Brewing. Try their vast lineup of beers that is sure to have a favorite for everyone.
URL:https://www.redstoneliquors.com/event/andover-berkshire-brewing/
CATEGORIES:Beer tasting
END:VEVENT
BEGIN:VEVENT
DTSTART;TZID=America/New_York:20150724T160000
DTEND;TZID=America/New_York:20150724T190000
DTSTAMP:20260425T124610
CREATED:20150721T223520Z
LAST-MODIFIED:20150721T223520Z
UID:13723-1437753600-1437764400@www.redstoneliquors.com
SUMMARY:Stoneham: Von Trapp Brewing w/ Sam Van Trapp
DESCRIPTION:Join us in Stoneham this Friday July 24th From 4pm -7pm for a Beer tasting with Sam Von Trapp from Van Trapp brewing (Stowe VT).
URL:https://www.redstoneliquors.com/event/stoneham-von-trapp-brewing-w-sam-van-trapp/
END:VEVENT
BEGIN:VEVENT
DTSTART;TZID=America/New_York:20150717T170000
DTEND;TZID=America/New_York:20150717T190000
DTSTAMP:20260425T124610
CREATED:20150609T201919Z
LAST-MODIFIED:20150609T201919Z
UID:12878-1437152400-1437159600@www.redstoneliquors.com
SUMMARY:Andover: Coronado Brewing
DESCRIPTION:Swing by from 5-7 for a Beer Tasting with the folks from Coronado Brewing. Try their lineups of beers including island IPA\, Orange ave Wit\, Mermaid red and Idiot IPA along with their seasonal 22oz offering. \n 
URL:https://www.redstoneliquors.com/event/andover-coronado-brewing/
CATEGORIES:Beer tasting
END:VEVENT
BEGIN:VEVENT
DTSTART;TZID=America/New_York:20150703T160000
DTEND;TZID=America/New_York:20150703T190000
DTSTAMP:20260425T124610
CREATED:20150606T181750Z
LAST-MODIFIED:20150606T181750Z
UID:12866-1435939200-1435950000@www.redstoneliquors.com
SUMMARY:Andover: Ithaca Brewing
DESCRIPTION:Swing by and join Jeremy from Ithaca brewing as he tastes through their lineup of beer Including a staff favorite flower power IPA.
URL:https://www.redstoneliquors.com/event/andover-ithaca-brewing/
CATEGORIES:Beer tasting
END:VEVENT
BEGIN:VEVENT
DTSTART;TZID=America/New_York:20150626T160000
DTEND;TZID=America/New_York:20150626T190000
DTSTAMP:20260425T124610
CREATED:20150606T181540Z
LAST-MODIFIED:20150606T181540Z
UID:12865-1435334400-1435345200@www.redstoneliquors.com
SUMMARY:Stoneham: Bantam Cider
DESCRIPTION:Swing by and join Bantam cider as they taste through their line up of local cider.
URL:https://www.redstoneliquors.com/event/stoneham-bantam-cider/
END:VEVENT
BEGIN:VEVENT
DTSTART;TZID=America/New_York:20150625T170000
DTEND;TZID=America/New_York:20150625T190000
DTSTAMP:20260425T124610
CREATED:20150625T174246Z
LAST-MODIFIED:20150625T174246Z
UID:12912-1435251600-1435258800@www.redstoneliquors.com
SUMMARY:Stoneham: SoMe Brewing Tasting with Owner/Brewer Dave Rowland
DESCRIPTION:Special treat for Redstone Liquors Customers!  Owner/Brewer of SoMe Brewing Company will be in Stoneham Tomorrow from 5-7pm pouring samples of their Whoopie Pie stout\, Apostrophe IPA & Templeton Saison.
URL:https://www.redstoneliquors.com/event/stoneham-some-brewing-tasting-with-ownerbrewer-dave-rowland/
CATEGORIES:Beer tasting
END:VEVENT
BEGIN:VEVENT
DTSTART;TZID=America/New_York:20150620T140000
DTEND;TZID=America/New_York:20150620T160000
DTSTAMP:20260425T124610
CREATED:20150606T181333Z
LAST-MODIFIED:20150606T181333Z
UID:12864-1434808800-1434816000@www.redstoneliquors.com
SUMMARY:Stoneham: (Redstone Exclusive)Whistle Pig 10 year single barrel cask strength rye.
DESCRIPTION:Swing by and join Greg from Whistle Pig Rye as he samples out the original 10 year along with our Redstone Exclusive single barrel cask strength 10 year version of this award winning Rye Whiskey just in time for fathers day….Greg will also have some goodies with him to give out with each bottle purchased. \nAndover: (Redstone Exclusive)Whistle Pig 10 year single barrel cask strength rye.
URL:https://www.redstoneliquors.com/event/stoneham-redstone-exclusivewhistle-pig-10-year-single-barrel-cask-strength-rye/
END:VEVENT
END:VCALENDAR