BEGIN:VCALENDAR
VERSION:2.0
PRODID:-//Redstone Liquors - ECPv6.15.11//NONSGML v1.0//EN
CALSCALE:GREGORIAN
METHOD:PUBLISH
X-WR-CALNAME:Redstone Liquors
X-ORIGINAL-URL:https://www.redstoneliquors.com
X-WR-CALDESC:Events for Redstone Liquors
REFRESH-INTERVAL;VALUE=DURATION:PT1H
X-Robots-Tag:noindex
X-PUBLISHED-TTL:PT1H
BEGIN:VTIMEZONE
TZID:America/New_York
BEGIN:DAYLIGHT
TZOFFSETFROM:-0500
TZOFFSETTO:-0400
TZNAME:EDT
DTSTART:20180311T070000
END:DAYLIGHT
BEGIN:STANDARD
TZOFFSETFROM:-0400
TZOFFSETTO:-0500
TZNAME:EST
DTSTART:20181104T060000
END:STANDARD
BEGIN:DAYLIGHT
TZOFFSETFROM:-0500
TZOFFSETTO:-0400
TZNAME:EDT
DTSTART:20190310T070000
END:DAYLIGHT
BEGIN:STANDARD
TZOFFSETFROM:-0400
TZOFFSETTO:-0500
TZNAME:EST
DTSTART:20191103T060000
END:STANDARD
BEGIN:DAYLIGHT
TZOFFSETFROM:-0500
TZOFFSETTO:-0400
TZNAME:EDT
DTSTART:20200308T070000
END:DAYLIGHT
BEGIN:STANDARD
TZOFFSETFROM:-0400
TZOFFSETTO:-0500
TZNAME:EST
DTSTART:20201101T060000
END:STANDARD
BEGIN:DAYLIGHT
TZOFFSETFROM:-0500
TZOFFSETTO:-0400
TZNAME:EDT
DTSTART:20210314T070000
END:DAYLIGHT
BEGIN:STANDARD
TZOFFSETFROM:-0400
TZOFFSETTO:-0500
TZNAME:EST
DTSTART:20211107T060000
END:STANDARD
BEGIN:DAYLIGHT
TZOFFSETFROM:-0500
TZOFFSETTO:-0400
TZNAME:EDT
DTSTART:20220313T070000
END:DAYLIGHT
BEGIN:STANDARD
TZOFFSETFROM:-0400
TZOFFSETTO:-0500
TZNAME:EST
DTSTART:20221106T060000
END:STANDARD
END:VTIMEZONE
BEGIN:VEVENT
DTSTART;TZID=America/New_York:20210723T170000
DTEND;TZID=America/New_York:20210723T190000
DTSTAMP:20260424T061732
CREATED:20210618T173326Z
LAST-MODIFIED:20210618T173326Z
UID:19325-1627059600-1627066800@www.redstoneliquors.com
SUMMARY:Angels Envy Tasting (Stoneham)
DESCRIPTION:
URL:https://www.redstoneliquors.com/event/angels-envy-tasting-stoneham/
LOCATION:Redstone Liquors Stoneham\, 115 Main St\, Stoneham\, MA\, 02180\, United States
END:VEVENT
BEGIN:VEVENT
DTSTART;TZID=America/New_York:20210717T143000
DTEND;TZID=America/New_York:20210717T170000
DTSTAMP:20260424T061732
CREATED:20210609T170015Z
LAST-MODIFIED:20210609T170015Z
UID:19312-1626532200-1626541200@www.redstoneliquors.com
SUMMARY:Stillhouse Whiskey (Stoneham)
DESCRIPTION:
URL:https://www.redstoneliquors.com/event/stillhouse-whiskey-stoneham/
LOCATION:Redstone Liquors Stoneham\, 115 Main St\, Stoneham\, MA\, 02180\, United States
END:VEVENT
BEGIN:VEVENT
DTSTART;TZID=America/New_York:20210717T120000
DTEND;TZID=America/New_York:20210717T143000
DTSTAMP:20260424T061732
CREATED:20210609T165921Z
LAST-MODIFIED:20210609T165921Z
UID:19310-1626523200-1626532200@www.redstoneliquors.com
SUMMARY:Cazadores Ready to drink cocktails (Stoneham)
DESCRIPTION:
URL:https://www.redstoneliquors.com/event/cazadores-ready-to-drink-cocktails-stoneham/
LOCATION:Redstone Liquors Stoneham\, 115 Main St\, Stoneham\, MA\, 02180\, United States
END:VEVENT
BEGIN:VEVENT
DTSTART;TZID=America/New_York:20210709T163000
DTEND;TZID=America/New_York:20210709T183000
DTSTAMP:20260424T061732
CREATED:20210615T133257Z
LAST-MODIFIED:20210615T133257Z
UID:19323-1625848200-1625855400@www.redstoneliquors.com
SUMMARY:Arizona Sunrise Seltzers (Stoneham)
DESCRIPTION:
URL:https://www.redstoneliquors.com/event/arizona-sunrise-seltzers-stoneham/
LOCATION:Redstone Liquors Stoneham\, 115 Main St\, Stoneham\, MA\, 02180\, United States
END:VEVENT
BEGIN:VEVENT
DTSTART;TZID=America/New_York:20210619T150000
DTEND;TZID=America/New_York:20210619T170000
DTSTAMP:20260424T061732
CREATED:20210602T155219Z
LAST-MODIFIED:20210609T165646Z
UID:19301-1624114800-1624122000@www.redstoneliquors.com
SUMMARY:Macallan Gift wrap and tasting event
DESCRIPTION:Swing by and learn about the double cask line of macallan and get complimentary gift wrapping for fathers day. this will be a dry tasting.
URL:https://www.redstoneliquors.com/event/macallan-gift-wrap-and-tasting-event/
LOCATION:Redstone Liquors Stoneham\, 115 Main St\, Stoneham\, MA\, 02180\, United States
END:VEVENT
BEGIN:VEVENT
DTSTART;TZID=America/New_York:20210617T170000
DTEND;TZID=America/New_York:20210617T190000
DTSTAMP:20260424T061732
CREATED:20210602T155338Z
LAST-MODIFIED:20210602T155338Z
UID:19303-1623949200-1623956400@www.redstoneliquors.com
SUMMARY:Teeling Irish whiskey tasting (stoneham)
DESCRIPTION:
URL:https://www.redstoneliquors.com/event/teeling-irish-whiskey-tasting-stoneham/
LOCATION:Redstone Liquors Stoneham\, 115 Main St\, Stoneham\, MA\, 02180\, United States
END:VEVENT
BEGIN:VEVENT
DTSTART;TZID=America/New_York:20210605T150000
DTEND;TZID=America/New_York:20210605T180000
DTSTAMP:20260424T061732
CREATED:20210408T170137Z
LAST-MODIFIED:20210408T170137Z
UID:18782-1622905200-1622916000@www.redstoneliquors.com
SUMMARY:Stoneham: Seedlip Non Alcoholic Spirits Dry Tasting
DESCRIPTION:
URL:https://www.redstoneliquors.com/event/stoneham-seedlip-non-alcoholic-spirits-dry-tasting-3/
LOCATION:Redstone Liquors Stoneham\, 115 Main St\, Stoneham\, MA\, 02180\, United States
END:VEVENT
BEGIN:VEVENT
DTSTART;TZID=America/New_York:20210529T150000
DTEND;TZID=America/New_York:20210529T190000
DTSTAMP:20260424T061732
CREATED:20210427T195133Z
LAST-MODIFIED:20210427T195133Z
UID:19003-1622300400-1622314800@www.redstoneliquors.com
SUMMARY:Glenlivet core 4 (Stoneham)
DESCRIPTION:
URL:https://www.redstoneliquors.com/event/glenlivet-core-4-stoneham/
LOCATION:Redstone Liquors Stoneham\, 115 Main St\, Stoneham\, MA\, 02180\, United States
END:VEVENT
BEGIN:VEVENT
DTSTART;TZID=America/New_York:20210528T170000
DTEND;TZID=America/New_York:20210528T190000
DTSTAMP:20260424T061732
CREATED:20210427T195005Z
LAST-MODIFIED:20210427T195005Z
UID:19001-1622221200-1622228400@www.redstoneliquors.com
SUMMARY:Jameson Core 4 (Stoneham)
DESCRIPTION:
URL:https://www.redstoneliquors.com/event/jameson-core-4-stoneham/
LOCATION:Redstone Liquors Stoneham\, 115 Main St\, Stoneham\, MA\, 02180\, United States
END:VEVENT
BEGIN:VEVENT
DTSTART;TZID=America/New_York:20210522T150000
DTEND;TZID=America/New_York:20210522T170000
DTSTAMP:20260424T061732
CREATED:20210427T194852Z
LAST-MODIFIED:20210427T194852Z
UID:18999-1621695600-1621702800@www.redstoneliquors.com
SUMMARY:Malibu Watermelon (Stoneham)
DESCRIPTION:
URL:https://www.redstoneliquors.com/event/malibu-watermelon-stoneham/
LOCATION:Redstone Liquors Stoneham\, 115 Main St\, Stoneham\, MA\, 02180\, United States
END:VEVENT
BEGIN:VEVENT
DTSTART;TZID=America/New_York:20210521T170000
DTEND;TZID=America/New_York:20210521T190000
DTSTAMP:20260424T061732
CREATED:20210427T194801Z
LAST-MODIFIED:20210427T194801Z
UID:18997-1621616400-1621623600@www.redstoneliquors.com
SUMMARY:Absolut Watermelon (Stoneham)
DESCRIPTION:
URL:https://www.redstoneliquors.com/event/absolut-watermelon-stoneham/
LOCATION:Redstone Liquors Stoneham\, 115 Main St\, Stoneham\, MA\, 02180\, United States
END:VEVENT
BEGIN:VEVENT
DTSTART;TZID=America/New_York:20210515T150000
DTEND;TZID=America/New_York:20210515T170000
DTSTAMP:20260424T061732
CREATED:20210427T194610Z
LAST-MODIFIED:20210427T194705Z
UID:18995-1621090800-1621098000@www.redstoneliquors.com
SUMMARY:Olmeca Altos (Stoneham)
DESCRIPTION:
URL:https://www.redstoneliquors.com/event/olmeca-altos-stoneham/
LOCATION:Redstone Liquors Stoneham\, 115 Main St\, Stoneham\, MA\, 02180\, United States
END:VEVENT
BEGIN:VEVENT
DTSTART;TZID=America/New_York:20210514T160000
DTEND;TZID=America/New_York:20210514T190000
DTSTAMP:20260424T061732
CREATED:20210408T170050Z
LAST-MODIFIED:20210408T170050Z
UID:18780-1621008000-1621018800@www.redstoneliquors.com
SUMMARY:Stoneham: Seedlip Non Alcoholic Spirits Dry Tasting
DESCRIPTION:
URL:https://www.redstoneliquors.com/event/stoneham-seedlip-non-alcoholic-spirits-dry-tasting-2/
LOCATION:Redstone Liquors Stoneham\, 115 Main St\, Stoneham\, MA\, 02180\, United States
END:VEVENT
BEGIN:VEVENT
DTSTART;TZID=America/New_York:20210513T170000
DTEND;TZID=America/New_York:20210513T190000
DTSTAMP:20260424T061732
CREATED:20210427T194301Z
LAST-MODIFIED:20210428T164328Z
UID:18993-1620925200-1620932400@www.redstoneliquors.com
SUMMARY:Tequila Avion (Stoneham)
DESCRIPTION:
URL:https://www.redstoneliquors.com/event/tequila-avion-stoneham/
LOCATION:Redstone Liquors Stoneham\, 115 Main St\, Stoneham\, MA\, 02180\, United States
END:VEVENT
BEGIN:VEVENT
DTSTART;TZID=America/New_York:20210424T150000
DTEND;TZID=America/New_York:20210424T180000
DTSTAMP:20260424T061732
CREATED:20210408T170013Z
LAST-MODIFIED:20210408T170013Z
UID:18778-1619276400-1619287200@www.redstoneliquors.com
SUMMARY:Stoneham: Seedlip Non Alcoholic Spirits Dry Tasting
DESCRIPTION:
URL:https://www.redstoneliquors.com/event/stoneham-seedlip-non-alcoholic-spirits-dry-tasting/
LOCATION:Redstone Liquors Stoneham\, 115 Main St\, Stoneham\, MA\, 02180\, United States
END:VEVENT
BEGIN:VEVENT
DTSTART;TZID=America/New_York:20210417T150000
DTEND;TZID=America/New_York:20210417T170000
DTSTAMP:20260424T061732
CREATED:20210405T150337Z
LAST-MODIFIED:20210405T150337Z
UID:18696-1618671600-1618678800@www.redstoneliquors.com
SUMMARY:Blackened Whiskey Dry Tasting
DESCRIPTION:Swing by stoneham on Saturday April 17th for a Dry tasting with the folks from Blackened Whiskey.
URL:https://www.redstoneliquors.com/event/blackened-whiskey-dry-tasting/
LOCATION:Redstone Liquors Stoneham\, 115 Main St\, Stoneham\, MA\, 02180\, United States
END:VEVENT
BEGIN:VEVENT
DTSTART;TZID=America/New_York:20210409T150000
DTEND;TZID=America/New_York:20210409T170000
DTSTAMP:20260424T061732
CREATED:20210305T173923Z
LAST-MODIFIED:20210307T220605Z
UID:18362-1617980400-1617987600@www.redstoneliquors.com
SUMMARY:Angels Envy Bottle engraving event
DESCRIPTION:Purchase a bottle of Angels envy from Redstone Liquors and get it Personalized with a message of your choice by our professional engravers!
URL:https://www.redstoneliquors.com/event/angels-envy-bottle-engraving-event/
LOCATION:Redstone Liquors Stoneham\, 115 Main St\, Stoneham\, MA\, 02180\, United States
END:VEVENT
BEGIN:VEVENT
DTSTART;VALUE=DATE:20210214
DTEND;VALUE=DATE:20210215
DTSTAMP:20260424T061732
CREATED:20210208T203609Z
LAST-MODIFIED:20210208T203609Z
UID:18006-1613260800-1613347199@www.redstoneliquors.com
SUMMARY:Valentine's Day
DESCRIPTION:
URL:https://www.redstoneliquors.com/event/valentines-day/
LOCATION:MA
END:VEVENT
BEGIN:VEVENT
DTSTART;VALUE=DATE:20201225
DTEND;VALUE=DATE:20201226
DTSTAMP:20260424T061732
CREATED:20201218T140632Z
LAST-MODIFIED:20201218T140632Z
UID:17775-1608854400-1608940799@www.redstoneliquors.com
SUMMARY:Christmas Day
DESCRIPTION:
URL:https://www.redstoneliquors.com/event/christmas-day/
LOCATION:MA
END:VEVENT
BEGIN:VEVENT
DTSTART;TZID=America/New_York:20200403T160000
DTEND;TZID=America/New_York:20200403T190000
DTSTAMP:20260424T061732
CREATED:20200310T170513Z
LAST-MODIFIED:20200310T170513Z
UID:17659-1585929600-1585940400@www.redstoneliquors.com
SUMMARY:Jack Daniels Rye (Andover)
DESCRIPTION:
URL:https://www.redstoneliquors.com/event/jack-daniels-rye-andover/
LOCATION:MA
END:VEVENT
BEGIN:VEVENT
DTSTART;TZID=America/New_York:20200403T160000
DTEND;TZID=America/New_York:20200403T190000
DTSTAMP:20260424T061732
CREATED:20200309T171811Z
LAST-MODIFIED:20200309T171811Z
UID:17653-1585929600-1585940400@www.redstoneliquors.com
SUMMARY:Wine Tasting (Andover)
DESCRIPTION:Winbow
URL:https://www.redstoneliquors.com/event/wine-tasting-andover-2/
LOCATION:MA
END:VEVENT
BEGIN:VEVENT
DTSTART;TZID=America/New_York:20200328T143000
DTEND;TZID=America/New_York:20200328T173000
DTSTAMP:20260424T061732
CREATED:20200311T174011Z
LAST-MODIFIED:20200311T174011Z
UID:17665-1585405800-1585416600@www.redstoneliquors.com
SUMMARY:Blood sweat & tears Vodka (Stoneham)
DESCRIPTION:
URL:https://www.redstoneliquors.com/event/blood-sweat-tears-vodka-stoneham/
LOCATION:MA
END:VEVENT
BEGIN:VEVENT
DTSTART;TZID=America/New_York:20200327T160000
DTEND;TZID=America/New_York:20200327T190000
DTSTAMP:20260424T061732
CREATED:20200311T174053Z
LAST-MODIFIED:20200311T174053Z
UID:17667-1585324800-1585335600@www.redstoneliquors.com
SUMMARY:Blood sweat & tears Vodka (Andover)
DESCRIPTION:
URL:https://www.redstoneliquors.com/event/blood-sweat-tears-vodka-andover/
LOCATION:MA
END:VEVENT
BEGIN:VEVENT
DTSTART;TZID=America/New_York:20200327T160000
DTEND;TZID=America/New_York:20200327T190000
DTSTAMP:20260424T061732
CREATED:20200309T171643Z
LAST-MODIFIED:20200309T171643Z
UID:17651-1585324800-1585335600@www.redstoneliquors.com
SUMMARY:Wine Tasting (Stoneham)
DESCRIPTION:Winebow
URL:https://www.redstoneliquors.com/event/wine-tasting-stoneham-11/
LOCATION:MA
END:VEVENT
BEGIN:VEVENT
DTSTART;TZID=America/New_York:20200320T160000
DTEND;TZID=America/New_York:20200320T190000
DTSTAMP:20260424T061732
CREATED:20200310T170429Z
LAST-MODIFIED:20200310T170429Z
UID:17657-1584720000-1584730800@www.redstoneliquors.com
SUMMARY:Jack Daniels Rye (Stoneham)
DESCRIPTION:
URL:https://www.redstoneliquors.com/event/jack-daniels-rye-stoneham/
LOCATION:MA
END:VEVENT
BEGIN:VEVENT
DTSTART;TZID=America/New_York:20200319T180000
DTEND;TZID=America/New_York:20200319T193000
DTSTAMP:20260424T061732
CREATED:20200309T190937Z
LAST-MODIFIED:20200309T190937Z
UID:17655-1584640800-1584646200@www.redstoneliquors.com
SUMMARY:Night Shift/Kiran's Cookie's Cookie decorating (classroom event)
DESCRIPTION:We are teaming up with Redstone Liquors & Night Shift brewing\, to take “Beer is Art” to another (delicious) level. \nThursday March 19th at 6:30pm Kiran’s Kookies be hosting a paint your own cookie night at Redstone’s Liquors classroom space in Stoneham! The folks from Night Shift Brewing will be sampling you on a lineup of their world class craft beer all while Kiran’s Kookies walks you through hand decorating 3 of our famous cookies all appropriately themed of course (owl\, beer mug and a pretzel). The best part\, you get to take these cookies home with you (that is if you can resist eating them first). \nCost: $40 (includes one seat at event\, 3 cookies\, decorating supplies\, beer samples & some cool Night Shift Brewing swag)\nBonus: Attendees will also get 10% off of anything purchased at Redstone Liquors the night of the event. \nSeating is limited to the first 15 folks to sign up. Register by emailing info@kiranskookies.com \n*Event is 21+\n*Tickets are non-refundable
URL:https://www.redstoneliquors.com/event/night-shift-kirans-cookies-cookie-decorating-classroom-event/
LOCATION:MA
END:VEVENT
BEGIN:VEVENT
DTSTART;TZID=America/New_York:20200313T160000
DTEND;TZID=America/New_York:20200313T190000
DTSTAMP:20260424T061732
CREATED:20200211T151452Z
LAST-MODIFIED:20200211T151452Z
UID:17638-1584115200-1584126000@www.redstoneliquors.com
SUMMARY:Maine Craft Distilling (Stoneham)
DESCRIPTION:
URL:https://www.redstoneliquors.com/event/maine-craft-distilling-stoneham/
LOCATION:MA
END:VEVENT
BEGIN:VEVENT
DTSTART;TZID=America/New_York:20200214T160000
DTEND;TZID=America/New_York:20200214T190000
DTSTAMP:20260424T061732
CREATED:20200128T155247Z
LAST-MODIFIED:20200128T155247Z
UID:17624-1581696000-1581706800@www.redstoneliquors.com
SUMMARY:Cotton & Reed tasting (Stoneham)
DESCRIPTION:
URL:https://www.redstoneliquors.com/event/cotton-reed-tasting-stoneham/
LOCATION:MA
END:VEVENT
BEGIN:VEVENT
DTSTART;TZID=America/New_York:20200207T160000
DTEND;TZID=America/New_York:20200207T190000
DTSTAMP:20260424T061732
CREATED:20200128T155204Z
LAST-MODIFIED:20200128T155204Z
UID:17622-1581091200-1581102000@www.redstoneliquors.com
SUMMARY:Heaven's Door Bourbon & Rye Tasting (Stoneham)
DESCRIPTION:
URL:https://www.redstoneliquors.com/event/heavens-door-bourbon-rye-tasting-stoneham/
LOCATION:MA
END:VEVENT
BEGIN:VEVENT
DTSTART;TZID=America/New_York:20191220T160000
DTEND;TZID=America/New_York:20191220T190000
DTSTAMP:20260424T061732
CREATED:20191216T172825Z
LAST-MODIFIED:20191216T172825Z
UID:17598-1576857600-1576868400@www.redstoneliquors.com
SUMMARY:Cotton & Reed (Stoneham)
DESCRIPTION:
URL:https://www.redstoneliquors.com/event/cotton-reed-stoneham/
LOCATION:MA
END:VEVENT
END:VCALENDAR